BEGIN:VCALENDAR
VERSION:2.0
PRODID:-//ChamberMaster//Event Calendar 2.0//EN
METHOD:PUBLISH
X-PUBLISHED-TTL:P3D
REFRESH-INTERVAL:P3D
CALSCALE:GREGORIAN
BEGIN:VEVENT
DTSTART:20241003T213000Z
DTEND:20241003T233000Z
X-MICROSOFT-CDO-ALLDAYEVENT:FALSE
SUMMARY:Young Professionals Networking Mixer
DESCRIPTION:Join the San Marcos Young Professionals Network for this happy hour! Enjoy some drinks & apps while you network with other young professionals in the area.\n\n\n\nThis event is co-sponsored by the UpRoot! Nestled above the Root Cellar Cafe and a stone's throw from the busy Square is UpRoot Cocktail Bar. It's the perfect place for a cocktail\, date night out\, or a solid start to a great evening.\n\n\n\nHeld for those 21 to 45 who live/work/study in the San Marcos area!  YP happy hour events are a great way to unwind and grow your professional network.\n\n \n\n#SMYP #smtxchamber #youngprofessionalsnetwork
X-ALT-DESC;FMTTYPE=text/html:<span style="font-size:14px\;">Join the San Marcos <strong>Young Professionals Network</strong> for this happy hour! Enjoy some drinks &amp\; apps while you network with other young professionals in the area.<br />\n<br />\nThis event is co-sponsored by the <a href="https://business.sanmarcostexas.com/list/member/uproot-cocktail-bar-venue-at-the-root-cellar-cafe-5152289"><strong>UpRoot</strong></a>! Nestled above the Root Cellar Cafe and a stone&#39\;s throw from the busy Square is UpRoot Cocktail Bar. It&#39\;s the perfect place for a cocktail\, date night out\, or a solid start to a great evening.<br />\n<br />\n<span style="color:#050505\;">Held for those 21 to 45 who live/work/study in the San Marcos area!&nbsp\; YP happy hour events are a great way to unwind and grow your professional network.</span></span><br />\n&nbsp\;<br />\n<span style="color:#050505\;"><span style="font-family:inherit\,serif\;"><span style="font-size:11.5pt\;">#<a href="https://www.facebook.com/hashtag/smyp?__eep__=6&amp\;__cft__%5b0%5d=AZXIEkSH4tut2JJ0goL_qtzeehP3exN2FX2JtkBdSuvVHN7FeQVmiGpXXdL3lNC7EuMTHv_TYhbBAXP91YZH5ctE6zawBxosky8wX2yHkEf4hdpbMGLJvDhk0iPk4M7dMeM&amp\;__tn__=*NK-R"><span style="border:none windowtext 1.0pt\;padding:0in\;"><span style="color:blue\;">SMYP</span></span></a> <a href="https://www.facebook.com/hashtag/smtxchamber?__eep__=6&amp\;__cft__%5b0%5d=AZXIEkSH4tut2JJ0goL_qtzeehP3exN2FX2JtkBdSuvVHN7FeQVmiGpXXdL3lNC7EuMTHv_TYhbBAXP91YZH5ctE6zawBxosky8wX2yHkEf4hdpbMGLJvDhk0iPk4M7dMeM&amp\;__tn__=*NK-R"><span style="border:none windowtext 1.0pt\;padding:0in\;"><span style="color:blue\;">#smtxchamber</span></span></a> <a href="https://www.facebook.com/hashtag/youngprofessionalsnetwork?__eep__=6&amp\;__cft__%5b0%5d=AZXIEkSH4tut2JJ0goL_qtzeehP3exN2FX2JtkBdSuvVHN7FeQVmiGpXXdL3lNC7EuMTHv_TYhbBAXP91YZH5ctE6zawBxosky8wX2yHkEf4hdpbMGLJvDhk0iPk4M7dMeM&amp\;__tn__=*NK-R"><span style="border:none windowtext 1.0pt\;padding:0in\;"><span style="color:blue\;">#youngprofessionalsnetwork</span></span></a></span></span></span><br />\n&nbsp\;
LOCATION:UpRoot Cocktail Bar\, 215 North LBJ Drive
UID:e.2626.5159760
SEQUENCE:3
DTSTAMP:20260425T032938Z
URL:https://business.sanmarcostexas.com/events/details/young-professionals-networking-mixer-5159760
END:VEVENT

END:VCALENDAR
