BEGIN:VCALENDAR
VERSION:2.0
PRODID:-//ChamberMaster//Event Calendar 2.0//EN
METHOD:PUBLISH
X-PUBLISHED-TTL:P3D
REFRESH-INTERVAL:P3D
CALSCALE:GREGORIAN
BEGIN:VEVENT
DTSTART:20190323T160000Z
DTEND:20190323T220000Z
X-MICROSOFT-CDO-ALLDAYEVENT:FALSE
SUMMARY:Wimberley Metaphysical and Holistic Fair
DESCRIPTION:*FREE ADMISSION*\n\n\n\nEnjoy a day with wonderful healers\, practitioners\, and vendors.\n\n\n\nThis event is for individuals who are looking for guidance\, looking for healing\, wanting to connect with spirit\, or simply wanting to purchase items for themselves or a loved one.\n\n\n\nNo matter where you are on your spiritual path you will simply enjoy this fair.\n\n\n\nPractitioners include:\n\n*Energy work\n\n*Psychics\n\n*Mediums\n\n*Metaphysical products\n\n*Holistic products\n\n*Life Coaches\n\n*Tarot Card readings\n\n*Cosmic Zee readings\n\n*Reiki Masters\n\n*Signing Bowls\n\n*Salt Lamps\n\n*Healings\n\n*Jewelry\n\n*Crystals\n\n*Gemstones\n\n*Aura Photography\n\n*and so MUCH MORE
X-ALT-DESC;FMTTYPE=text/html:*FREE ADMISSION*<br />\n<br />\nEnjoy a day with wonderful healers\, practitioners\, and vendors.<br />\n<br />\nThis event is for individuals who are looking for guidance\, looking for healing\, wanting to connect with spirit\, or simply wanting to purchase items for themselves or a loved one.<br />\n<br />\nNo matter where you are on your spiritual path you will simply enjoy this fair.<br />\n<br />\nPractitioners include:<br />\n*Energy work<br />\n*Psychics<br />\n*Mediums<br />\n*Metaphysical products<br />\n*Holistic products<br />\n*Life Coaches<br />\n*Tarot Card readings<br />\n*Cosmic Zee readings<br />\n*Reiki Masters<br />\n*Signing Bowls<br />\n*Salt Lamps<br />\n*Healings<br />\n*Jewelry<br />\n*Crystals<br />\n*Gemstones<br />\n*Aura Photography<br />\n*and so MUCH MORE
LOCATION:Wimberley Community Center 14068 Ranch Road 12 Wimberley\, TX 78676
UID:e.2626.5153650
SEQUENCE:3
DTSTAMP:20260425T144535Z
URL:https://business.sanmarcostexas.com/events/details/wimberley-metaphysical-and-holistic-fair-03-23-2019-5153650
END:VEVENT

END:VCALENDAR
