BEGIN:VCALENDAR
VERSION:2.0
PRODID:-//ChamberMaster//Event Calendar 2.0//EN
METHOD:PUBLISH
X-PUBLISHED-TTL:P3D
REFRESH-INTERVAL:P3D
CALSCALE:GREGORIAN
BEGIN:VEVENT
DTSTART:20200911T133000Z
DTEND:20200911T140000Z
X-MICROSOFT-CDO-ALLDAYEVENT:FALSE
SUMMARY:Virtual Open 4 Business Networking Meeting
DESCRIPTION:The Open 4 Business Meetings are virtual. Please contact the San Marcos Area Chamber of Commerce for more information!\n\n\n\nREGISTER HERE
X-ALT-DESC;FMTTYPE=text/html:The Open 4 Business Meetings are virtual. Please contact the San Marcos Area Chamber of Commerce for more information!<br />\n<br />\n<span style="font-size:16px\;"><strong><a href="https://us02web.zoom.us/meeting/register/tZUuc-GhrjIoGty_AAL65kxAsqutVDRaXWkZ">REGISTER HERE&nbsp\;</a></strong></span>
LOCATION:
UID:e.2626.5155940
SEQUENCE:3
DTSTAMP:20260425T215440Z
URL:https://business.sanmarcostexas.com/events/details/virtual-open-4-business-networking-meeting-5155940
END:VEVENT

END:VCALENDAR
