BEGIN:VCALENDAR
VERSION:2.0
PRODID:-//ChamberMaster//Event Calendar 2.0//EN
METHOD:PUBLISH
X-PUBLISHED-TTL:P3D
REFRESH-INTERVAL:P3D
CALSCALE:GREGORIAN
BEGIN:VEVENT
DTSTART:20260506T154500Z
DTEND:20260506T171500Z
X-MICROSOFT-CDO-ALLDAYEVENT:FALSE
SUMMARY:The Selling Challenge - Why Do Sales People Fail?
DESCRIPTION:The Selling Challenge: Why Do Salespeople Fail?\n\nAn Executive Briefing   San Marcos Public Library \n\nWednesday\, May 6 | 10:45 AM   12:15 PM \n\n(Following 1 Million Cups\, 9:30 10:30 AM)\n\n\nWhat's actually getting in the way of your team's growth right now?\n\n \n\nThis isn't a sales pitch or a webinar replay. It's a live\, facilitated conversation for sales leaders and executives who want real answers to the challenges showing up in today's selling environment.\n\n \n\nWe'll dig into why strong salespeople still fall short\, what's creating friction in the sales process\, and what leaders can do differently to move the needle on business development and close rate.\n\n \n\nYou'll leave with practical ideas you can put to work immediately.\n\nSeats are intentionally limited. This session is designed for discussion\, not an audience.\n\n \n\nHosted by James Akers\, Sandler   San Marcos\, TX
X-ALT-DESC;FMTTYPE=text/html:<div>\n<div>\n<div style="text-align:center"><strong>The Selling Challenge: Why Do Salespeople Fail?</strong></div>\n\n<div style="text-align:center"><em>An Executive Briefing &mdash\; San Marcos Public Library</em>&nbsp\;<br />\nWednesday<em>\, May 6 | 10:45 AM &ndash\; 12:15 PM</em>&nbsp\;<br />\n<em>(Following 1 Million Cups\, 9:30&ndash\;10:30&nbsp\;AM)</em></div>\n<br />\nWhat&#39\;s actually getting in the way of your team&#39\;s growth right now?</div>\n\n<div>&nbsp\;</div>\n\n<div>This isn&#39\;t a sales pitch or a webinar replay. It&#39\;s a live\, facilitated conversation for sales leaders and executives who want real answers to the challenges showing up in today&#39\;s selling environment.</div>\n\n<div>&nbsp\;</div>\n\n<div>We&#39\;ll dig into why strong salespeople still fall short\, what&#39\;s creating friction in the sales process\, and what leaders can do differently to move the needle on business development and close rate.</div>\n\n<div>&nbsp\;</div>\n\n<div>You&#39\;ll leave with practical ideas you can put to work immediately.</div>\n\n<div>Seats are intentionally limited. This session is designed for discussion\, not an audience.</div>\n\n<div>&nbsp\;</div>\n\n<div>Hosted by James Akers\, Sandler &mdash\; San Marcos\, TX</div>\n</div>\n&nbsp\;\n\n<div>&nbsp\;</div>\n
LOCATION:Register now to reserve your seat
UID:e.2626.5162014
SEQUENCE:3
DTSTAMP:20260421T004123Z
URL:https://business.sanmarcostexas.com/events/details/the-selling-challenge-why-do-sales-people-fail-05-06-2026-5162014
END:VEVENT

END:VCALENDAR
