BEGIN:VCALENDAR
VERSION:2.0
PRODID:-//ChamberMaster//Event Calendar 2.0//EN
METHOD:PUBLISH
X-PUBLISHED-TTL:P3D
REFRESH-INTERVAL:P3D
CALSCALE:GREGORIAN
BEGIN:VEVENT
DTSTART;VALUE=DATE:20250807
DTEND;VALUE=DATE:20250808
TRANSP:TRANSPARENT
X-MICROSOFT-CDO-ALLDAYEVENT:TRUE
SUMMARY:Summer in the Park Concerts
DESCRIPTION:Event details and other information available on the Plaza Park Concerts website\, click here.
X-ALT-DESC;FMTTYPE=text/html:Event details and other information available on the Plaza Park Concerts website\, click <a href="http://summerintheparkSM.org">here</a>.
LOCATION:Location: Plaza Park
UID:e.2626.5160172
SEQUENCE:3
DTSTAMP:20260420T084954Z
URL:https://business.sanmarcostexas.com/events/details/summer-in-the-park-concerts-08-07-2025-5160172
END:VEVENT

END:VCALENDAR
