BEGIN:VCALENDAR
VERSION:2.0
PRODID:-//ChamberMaster//Event Calendar 2.0//EN
METHOD:PUBLISH
X-PUBLISHED-TTL:P3D
REFRESH-INTERVAL:P3D
CALSCALE:GREGORIAN
BEGIN:VEVENT
DTSTART:20240926T160000Z
DTEND:20240926T180000Z
X-MICROSOFT-CDO-ALLDAYEVENT:FALSE
SUMMARY:State of Workforce & Education Summit
DESCRIPTION:Co-Hosted by the San Marcos Chamber and the Greater San Marcos Partnership\n\n\n\nTechnology & Innovation in Education\n\nKeynote Speaker: Dr. Kelly Damphousse - President\, Texas State University\n\n\n\nGain insights into strategies and collaborations for a thriving workforce. Hear the "State of Texas State" from Kelly Damphousse and exciting updates from the University. Other speakers will focus on career & technology education innovations.\n\n\n\nSCHEDULE:\n\n11am  Networking time\n\n11:15  Lunch is served\n\n11:30  Program opens\, speakers are introduced\n\n1:00  Program concludes \n\nsponsorship opportunities are still available. ClICK HERE\n\nUse the REGISTER button on this page to reserve tickets & tables.
X-ALT-DESC;FMTTYPE=text/html:<div style="color: rgb(46\, 47\, 47)\; font-family: Verdana\, Geneva\, sans-serif\; font-size: 16px\; background-color: rgb(255\, 255\, 255)\;"><span style="color: rgb(0\, 60\, 113)\; font-family: arial\; font-size: 18px\;"><em>Co-Hosted by the San Marcos Chamber and the Greater San Marcos Partnership</em></span></div>\n\n<div><br />\n<span style="color:#006400\;"><strong>Technology &amp\; Innovation in Education</strong></span>\n\n<p><span style="font-size:14px\;"><span style="font-family:arial\;"><strong>Keynote Speaker: Dr. Kelly Damphousse -&nbsp\;President\,&nbsp\;Texas State University</strong><br />\n<br />\nGain insights into strategies and collaborations for a thriving workforce.&nbsp\;<span background-color:="" font-size:="" style="color: rgb(51\, 51\, 51)\; font-family: sans-serif\, Arial\, Verdana\, " trebuchet="">H</span>ear the &quot\;State of Texas State&quot\; from Kelly Damphousse and exciting updates from the University. Other speakers will focus on career &amp\; technology education innovations.<br />\n<br />\nSCHEDULE:<br />\n11am&nbsp\; Networking time<br />\n11:15&nbsp\; Lunch is served<br />\n11:30&nbsp\; Program opens\, speakers are introduced<br />\n1:00 &nbsp\;Program concludes&nbsp\;</span></span></p>\n\n<h4 century="" font-size:="" style="box-sizing: border-box\; font-family: proxima_nova_cn_rgbold\; line-height: 1.1\; color: rgb(8\, 61\, 115)\; margin-top: 0px\; margin-bottom: 0.5rem\; font-size: 30px\; text-transform: uppercase\;"><span style="box-sizing: border-box\; font-size: 16px\;"><span style="box-sizing: border-box\; font-weight: bolder\; color: unset\; font-size: unset\;"><a href="https://chambermaster.blob.core.windows.net/userfiles/UserFiles/chambers/2626/File/2024WorkforceEducationSummitSponsorshipOpportunities.pdf">sponsorship opportunities are still available. ClICK HERE</a></span></span></h4>\n\n<p century="" font-size:="" style="box-sizing: border-box\; margin: 0px 0px 1rem\; color: rgb(54\, 54\, 54)\; font-family: Arial\, Helvetica\, sans-serif\; font-size: 16px\;">Use the&nbsp\;<span style="box-sizing: border-box\; font-weight: bolder\; color: unset\; font-size: unset\; font-family: proxima_nova_cn_rgbold\;">REGISTER&nbsp\;</span>button on this page to reserve tickets &amp\; tables.</p>\n</div>\n
LOCATION:San Marcos Conference Center at Embassy Suites
UID:e.2626.5158952
SEQUENCE:3
DTSTAMP:20260425T032120Z
URL:https://business.sanmarcostexas.com/events/details/state-of-workforce-education-summit-5158952
END:VEVENT

END:VCALENDAR
