BEGIN:VCALENDAR
VERSION:2.0
PRODID:-//ChamberMaster//Event Calendar 2.0//EN
METHOD:PUBLISH
X-PUBLISHED-TTL:P3D
REFRESH-INTERVAL:P3D
CALSCALE:GREGORIAN
BEGIN:VEVENT
DTSTART:20250424T163000Z
DTEND:20250424T180000Z
X-MICROSOFT-CDO-ALLDAYEVENT:FALSE
SUMMARY:State of the City & District Business Luncheon
DESCRIPTION:San Marcos is in one of the fastest-growing counties in the nation. This brings both opportunities and challenges. Attend this informative luncheon with City Manager Stephanie Reyes and Superintendent of Schools Dr. Michael Cardona to hear first-hand about their vision and priorities for continuous progress and collaboration.\n\n\n\nStand out at this prestigious community event! CLICK HERE TO VIEW SPONSORSHIP DETAILS.
X-ALT-DESC;FMTTYPE=text/html:<div century="" font-size:="">\n<div century="" font-size:="" style="box-sizing: border-box\; color: rgb(54\, 54\, 54)\; font-family: Arial\, Helvetica\, sans-serif\; font-size: 16px\;">San Marcos is in one of the fastest-growing counties in the nation. This brings both opportunities and challenges. Attend this&nbsp\;informative luncheon with City Manager Stephanie Reyes and Superintendent of Schools Dr. Michael Cardona to hear first-hand about their&nbsp\;vision and priorities for continuous progress and collaboration.<br />\n<br />\n<span style="box-sizing: border-box\; font-size: 16px\;"><span style="box-sizing: border-box\; font-weight: bolder\; color: unset\; font-size: unset\;"><span style="box-sizing: border-box\; color: rgb(0\, 100\, 0)\;">Stand out at this prestigious community event!&nbsp\;</span></span><span style="box-sizing: border-box\; font-weight: bolder\; color: unset\; font-size: unset\;"><a href="https://chambermaster.blob.core.windows.net/userfiles/UserFiles/chambers/2626/File/2025StateoftheCityDistrictSponsorships.pdf">CLICK HERE TO VIEW SPONSORSHIP DETAILS.</a> </span></span></div>\n</div>\n
LOCATION:San Marcos Conference Center at Embassy Suites 1001 E. McCarty Ln\, San Marcos
UID:e.2626.5160187
SEQUENCE:3
DTSTAMP:20260425T161353Z
URL:https://business.sanmarcostexas.com/events/details/state-of-the-city-district-business-luncheon-5160187
END:VEVENT

END:VCALENDAR
