BEGIN:VCALENDAR
VERSION:2.0
PRODID:-//ChamberMaster//Event Calendar 2.0//EN
METHOD:PUBLISH
X-PUBLISHED-TTL:P3D
REFRESH-INTERVAL:P3D
CALSCALE:GREGORIAN
BEGIN:VEVENT
DTSTART:20190910T150000Z
DTEND:20190910T170000Z
X-MICROSOFT-CDO-ALLDAYEVENT:FALSE
SUMMARY:Spring Lake Outdoor Academy: The Wonderful World of Insects
DESCRIPTION:Have you ever wondered what insects can be found in Central Texas in the Fall? During this program\, we will discover terrestrial and aquatic species through hands-on activities. The event will include a guided glass-bottom boat ride and interactive activities that teach students (grades K-12th) the interconnections between all living things and water. Homeschool students are encouraged to register. Registration is required. Tickets are $8/person\; children 2 and under are free. Check-in begins at 9:45am at The Meadows Center ticket kiosk. This series of classes is designed for students K-12th to get outside and experience nature firsthand. Classes take place once a month. Discount available for reserving multiple events in the series. Details: OutdoorAcademy.MeadowsWater.org
X-ALT-DESC;FMTTYPE=text/html:Have you ever wondered what insects can be found in Central Texas in the Fall? During this program\, we will discover terrestrial and aquatic species through hands-on activities. The event will include a guided glass-bottom boat ride and interactive activities that teach students (grades K-12th) the interconnections between all living things and water. Homeschool students are encouraged to register. Registration is required. Tickets are $8/person\; children 2 and under are free. Check-in begins at 9:45am at The Meadows Center ticket kiosk. This series of classes is designed for students K-12th to get outside and experience nature firsthand. Classes take place once a month. Discount available for reserving multiple events in the series. Details: OutdoorAcademy.MeadowsWater.org
LOCATION:The Meadows Center for Water and the Environment 201 San Marcos Springs Drive\, San Marcos\, Texas 78666
UID:e.2626.5155153
SEQUENCE:3
DTSTAMP:20260425T180635Z
URL:https://business.sanmarcostexas.com/events/details/spring-lake-outdoor-academy-the-wonderful-world-of-insects-5155153
END:VEVENT

END:VCALENDAR
