BEGIN:VCALENDAR
VERSION:2.0
PRODID:-//ChamberMaster//Event Calendar 2.0//EN
METHOD:PUBLISH
X-PUBLISHED-TTL:P3D
REFRESH-INTERVAL:P3D
CALSCALE:GREGORIAN
BEGIN:VEVENT
DTSTART:20221206T200000Z
DTEND:20221206T220000Z
X-MICROSOFT-CDO-ALLDAYEVENT:FALSE
SUMMARY:Spring Lake Outdoor Academy: Climate Explorers!
DESCRIPTION:Rain or shine\, the Earth is our home. Join us in learning the ins and outs of weather vs. climate. This program will inspire you to be a protector of green spaces and empower you to teach others about the importance of water conservation as we all navigate Earth's changing climate. Tickets are $9/person (adults and kids need tickets)\; children 2 and under are free. Pre-registration is required (limit 40). This series of classes is designed for K-12th students to get outside and experience nature firsthand. Classes take place on one Tuesday of each month from September-December. Each class includes a boat ride and other activities that vary from class to class. Homeschool students are encouraged to register.
X-ALT-DESC;FMTTYPE=text/html:Rain or shine\, the Earth is our home. Join us in learning the ins and outs of weather vs. climate. This program will inspire you to be a protector of green spaces and empower you to teach others about the importance of water conservation as we all navigate Earth&rsquo\;s changing climate. Tickets are $9/person (adults and kids need tickets)\; children 2 and under are free. Pre-registration is required (limit 40). This series of classes is designed for K-12th students to get outside and experience nature firsthand. Classes take place on one Tuesday of each month from September-December. Each class includes a boat ride and other activities that vary from class to class. Homeschool students are encouraged to register.
LOCATION:The Meadows Center for Water and the Environment 201 San Marcos Springs Drive San Marcos\, TX 78666
UID:e.2626.5158095
SEQUENCE:3
DTSTAMP:20260421T121223Z
URL:https://business.sanmarcostexas.com/events/details/spring-lake-outdoor-academy-climate-explorers-12-06-2022-5158095
END:VEVENT

END:VCALENDAR
