BEGIN:VCALENDAR
VERSION:2.0
PRODID:-//ChamberMaster//Event Calendar 2.0//EN
METHOD:PUBLISH
X-PUBLISHED-TTL:P3D
REFRESH-INTERVAL:P3D
CALSCALE:GREGORIAN
BEGIN:VEVENT
DTSTART:20221211T213000Z
DTEND:20221211T230000Z
X-MICROSOFT-CDO-ALLDAYEVENT:FALSE
SUMMARY:Spring Lake Guided Kayak Tour
DESCRIPTION:Spring Lake Guided Kayak Tours provides low-impact educational fun on top of the spring-fed\, crystal-clear waters of Spring Lake. The water here is 72 degrees year-round\, home to seven endangered and threatened species\, and one of the longest persistently inhabited sites in North America. This program aims to connect guests to the wonders of our local ecosystem and our relationship with the environment. The 1.5-hour experience includes:   Introduction to the unique history and habitat of Spring Lake   Check-in\, safety\, and skills debrief   Hour-long guided kayak tour All gear will be provided by the Meadows Center\, including a life jacket\, kayak\, and a light (evening class only). No outside gear will be allowed unless it is pre-approved. Life jackets must be worn at all times. Tickets are $40/person. Courses are limited to a minimum of 2 participants and maximum of 8. For larger groups\, inquiries should be sent to springlaketours@txstate.edu. *Military and Texas State University staff\, faculty\, and students that would like to book the tour at a $10 discounted rate should reach out to the Spring Lake Tours Office at springlaketours@txstate.edu for details.
X-ALT-DESC;FMTTYPE=text/html:Spring Lake Guided Kayak Tours provides low-impact educational fun on top of the spring-fed\, crystal-clear waters of Spring Lake. The water here is 72 degrees year-round\, home to seven endangered and threatened species\, and one of the longest persistently inhabited sites in North America. This program aims to connect guests to the wonders of our local ecosystem and our relationship with the environment. The 1.5-hour experience includes: &bull\; Introduction to the unique history and habitat of Spring Lake &bull\; Check-in\, safety\, and skills debrief &bull\; Hour-long guided kayak tour All gear will be provided by the Meadows Center\, including a life jacket\, kayak\, and a light (evening class only). No outside gear will be allowed unless it is pre-approved. Life jackets must be worn at all times. Tickets are $40/person. Courses are limited to a minimum of 2 participants and maximum of 8. For larger groups\, inquiries should be sent to springlaketours@txstate.edu. *Military and Texas State University staff\, faculty\, and students that would like to book the tour at a $10 discounted rate should reach out to the Spring Lake Tours Office at springlaketours@txstate.edu for details.
LOCATION:201 San Marcos Springs Drive San Marcos\, TX 78666
UID:e.2626.5158117
SEQUENCE:3
DTSTAMP:20260421T091539Z
URL:https://business.sanmarcostexas.com/events/details/spring-lake-guided-kayak-tour-12-11-2022-5158117
END:VEVENT

END:VCALENDAR
