BEGIN:VCALENDAR
VERSION:2.0
PRODID:-//ChamberMaster//Event Calendar 2.0//EN
METHOD:PUBLISH
X-PUBLISHED-TTL:P3D
REFRESH-INTERVAL:P3D
CALSCALE:GREGORIAN
BEGIN:VEVENT
DTSTART:20260402T213000Z
DTEND:20260402T233000Z
X-MICROSOFT-CDO-ALLDAYEVENT:FALSE
SUMMARY:SM Young Professionals Networking Mixer
DESCRIPTION:Join the San Marcos Young Professionals Network for this happy hour! Enjoy some drinks while you network with other young professionals in the area. \n\nThis event is hosted and sponsored by Leadership San Marcos. \n\nWe'll also have some exciting door prizes up for grabs\, and if you'd like to promote your business\, feel free to bring a prize of your own to share! \nHeld for those 21 to 45 who live/work/study in the San Marcos area!  YP happy hour events are a great way to unwind and grow your professional network.\n\n \n\nNote: Please park at the TXST parking next door after 5PM. This will help with regular dining patrons coming in for dinner - giving them the restaurant's lot for parking.\n\n \n\n#SMYP #smtxchamber #youngprofessionalsnetwork
X-ALT-DESC;FMTTYPE=text/html:<p><span style="font-size:14px\;"><span style="font-family:arial\;">Join the San Marcos <strong>Young Professionals Network</strong> for this happy hour! Enjoy some drinks while you network with other young professionals in the area.&nbsp\;</span></span></p>\n\n<p><span style="font-size:14px\;"><span style="font-family:arial\;">This event is hosted and sponsored by<strong>&nbsp\;Leadership San Marcos.&nbsp\;</strong></span></span></p>\n\n<p><span style="font-size:14px\;"><span style="font-family:arial\;">We&rsquo\;ll also have some exciting door prizes up for grabs\, and if you&#39\;d like to promote your business\, feel free to bring a prize of your own to share!&nbsp\;</span></span></p>\n<span style="font-size:14px\;"><span style="font-family:arial\;"><span style="color:#050505\;">Held for those 21 to 45 who live/work/study in the San Marcos area!&nbsp\; YP happy hour events are a great way to unwind and grow your professional network.</span></span></span><br />\n&nbsp\;\n<div style="background:#eee\;border:1px solid #ccc\;padding:5px 10px\;">\n<div data-olk-copy-source="MessageBody" style="border: 0px\; font-variant-numeric: inherit\; font-variant-east-asian: inherit\; font-variant-alternates: inherit\; font-variant-position: inherit\; font-variant-emoji: inherit\; font-stretch: inherit\; font-size: 15px\; line-height: inherit\; font-family: &quot\;Segoe UI&quot\;\, &quot\;Segoe UI Web (West European)&quot\;\, -apple-system\, BlinkMacSystemFont\, Roboto\, &quot\;Helvetica Neue&quot\;\, sans-serif\; font-optical-sizing: inherit\; font-size-adjust: inherit\; font-kerning: inherit\; font-feature-settings: inherit\; font-variation-settings: inherit\; font-language-override: inherit\; margin: 0px\; padding: 0px\; vertical-align: baseline\; color: rgb(36\, 36\, 36)\;">Note: Please park at the TXST parking next door after 5PM. This will help with regular dining patrons coming in for dinner - giving them the restaurant&#39\;s lot for parking.</div>\n</div>\n<span style="font-size:14px\;"><span style="font-family:arial\;">&nbsp\;<br />\n<span style="color:#050505\;">#<a href="https://www.facebook.com/hashtag/smyp?__eep__=6&amp\;__cft__%5b0%5d=AZXIEkSH4tut2JJ0goL_qtzeehP3exN2FX2JtkBdSuvVHN7FeQVmiGpXXdL3lNC7EuMTHv_TYhbBAXP91YZH5ctE6zawBxosky8wX2yHkEf4hdpbMGLJvDhk0iPk4M7dMeM&amp\;__tn__=*NK-R"><span style="border:none windowtext 1.0pt\;padding:0in\;"><span style="color:blue\;">SMYP</span></span></a> <a href="https://www.facebook.com/hashtag/smtxchamber?__eep__=6&amp\;__cft__%5b0%5d=AZXIEkSH4tut2JJ0goL_qtzeehP3exN2FX2JtkBdSuvVHN7FeQVmiGpXXdL3lNC7EuMTHv_TYhbBAXP91YZH5ctE6zawBxosky8wX2yHkEf4hdpbMGLJvDhk0iPk4M7dMeM&amp\;__tn__=*NK-R"><span style="border:none windowtext 1.0pt\;padding:0in\;"><span style="color:blue\;">#smtxchamber</span></span></a> <a href="https://www.facebook.com/hashtag/youngprofessionalsnetwork?__eep__=6&amp\;__cft__%5b0%5d=AZXIEkSH4tut2JJ0goL_qtzeehP3exN2FX2JtkBdSuvVHN7FeQVmiGpXXdL3lNC7EuMTHv_TYhbBAXP91YZH5ctE6zawBxosky8wX2yHkEf4hdpbMGLJvDhk0iPk4M7dMeM&amp\;__tn__=*NK-R"><span style="border:none windowtext 1.0pt\;padding:0in\;"><span style="color:blue\;">#youngprofessionalsnetwork</span></span></a></span></span></span><br />\n&nbsp\;
LOCATION:Palmer's Restaurant\, 218 Moore Street\, San Marcos\, TX 78666
UID:e.2626.5161593
SEQUENCE:3
DTSTAMP:20260420T182936Z
URL:https://business.sanmarcostexas.com/events/details/sm-young-professionals-networking-mixer-5161593
END:VEVENT

END:VCALENDAR
