BEGIN:VCALENDAR
VERSION:2.0
PRODID:-//ChamberMaster//Event Calendar 2.0//EN
METHOD:PUBLISH
X-PUBLISHED-TTL:P3D
REFRESH-INTERVAL:P3D
CALSCALE:GREGORIAN
BEGIN:VEVENT
DTSTART:20250417T213000Z
DTEND:20250417T233000Z
X-MICROSOFT-CDO-ALLDAYEVENT:FALSE
SUMMARY:SM Young Professionals Networking Mixer
DESCRIPTION:Join the San Marcos Young Professionals Network for this happy hour at Industry! Enjoy some drinks while you network with other young professionals in the area. \nThis event is hosted at Industry Restaurant and sponsored by Arden 231 Apartments\, offering upscale apartment living with top-tier amenities\, stylish interiors\, and a convenient location near the best that San Marcos has to offer. \n\nThere will be some exciting door prizes up for grabs\, and if you'd like to promote your business\, feel free to bring a prize of your own to share! \nYPN is held for those 21 to 45 who live/work/study in the San Marcos area!  Happy hour events are a great way to unwind and grow your professional network.\n\n \n\n#SMYP #smtxchamber #youngprofessionalsnetwork
X-ALT-DESC;FMTTYPE=text/html:<p><span style="font-size:14px\;"><span style="font-family:arial\;">Join the San Marcos <strong>Young Professionals Network</strong> for this happy hour at Industry! Enjoy some drinks while you network with other young professionals in the area.&nbsp\;</span></span></p>\n<span style="font-size:14px\;"><span style="font-family:arial\;">This event is hosted at <strong>Industry Restaurant </strong>and sponsored by<strong>&nbsp\;<a href="https://business.sanmarcostexas.com/list/member/evo-entertainment-springtown-5151948"><span style="color:#000000\;">A</span></a><a href="https://business.sanmarcostexas.com/list/member/arden-231-apartments-5152188"><span style="color:#000000\;">rden 231 Apartments</span></a>\,</strong>&nbsp\;offering</span>&nbsp\;upscale apartment living with top-tier amenities\, stylish interiors\, and a convenient location near the best that San Marcos has to offer.&nbsp\;</span>\n\n<p><span style="font-size:14px\;"><span style="font-family:arial\;">There will be&nbsp\;some exciting door prizes up for grabs\, and if you&#39\;d like to promote your business\, feel free to bring a prize of your own to share!&nbsp\;</span></span></p>\n<span style="font-size:14px\;"><span style="font-family:arial\;"><span style="color:#050505\;">YPN is held for those 21 to 45 who live/work/study in the San Marcos area!&nbsp\; Happy hour events are a great way to unwind and grow your professional network.</span><br />\n&nbsp\;<br />\n<span style="color:#050505\;">#<a href="https://www.facebook.com/hashtag/smyp?__eep__=6&amp\;__cft__%5b0%5d=AZXIEkSH4tut2JJ0goL_qtzeehP3exN2FX2JtkBdSuvVHN7FeQVmiGpXXdL3lNC7EuMTHv_TYhbBAXP91YZH5ctE6zawBxosky8wX2yHkEf4hdpbMGLJvDhk0iPk4M7dMeM&amp\;__tn__=*NK-R"><span style="border:none windowtext 1.0pt\;padding:0in\;"><span style="color:blue\;">SMYP</span></span></a> <a href="https://www.facebook.com/hashtag/smtxchamber?__eep__=6&amp\;__cft__%5b0%5d=AZXIEkSH4tut2JJ0goL_qtzeehP3exN2FX2JtkBdSuvVHN7FeQVmiGpXXdL3lNC7EuMTHv_TYhbBAXP91YZH5ctE6zawBxosky8wX2yHkEf4hdpbMGLJvDhk0iPk4M7dMeM&amp\;__tn__=*NK-R"><span style="border:none windowtext 1.0pt\;padding:0in\;"><span style="color:blue\;">#smtxchamber</span></span></a> <a href="https://www.facebook.com/hashtag/youngprofessionalsnetwork?__eep__=6&amp\;__cft__%5b0%5d=AZXIEkSH4tut2JJ0goL_qtzeehP3exN2FX2JtkBdSuvVHN7FeQVmiGpXXdL3lNC7EuMTHv_TYhbBAXP91YZH5ctE6zawBxosky8wX2yHkEf4hdpbMGLJvDhk0iPk4M7dMeM&amp\;__tn__=*NK-R"><span style="border:none windowtext 1.0pt\;padding:0in\;"><span style="color:blue\;">#youngprofessionalsnetwork</span></span></a></span></span></span><br />\n&nbsp\;
LOCATION:Industry\, 110 E Martin Luther King Drive #126
UID:e.2626.5160190
SEQUENCE:3
DTSTAMP:20260425T155701Z
URL:https://business.sanmarcostexas.com/events/details/sm-young-professionals-networking-mixer-5160190
END:VEVENT

END:VCALENDAR
