BEGIN:VCALENDAR
VERSION:2.0
PRODID:-//ChamberMaster//Event Calendar 2.0//EN
METHOD:PUBLISH
X-PUBLISHED-TTL:P3D
REFRESH-INTERVAL:P3D
CALSCALE:GREGORIAN
BEGIN:VEVENT
DTSTART:20221210T233000Z
DTEND:20221211T050000Z
X-MICROSOFT-CDO-ALLDAYEVENT:FALSE
SUMMARY:Sights & Sounds of Christmas - San Marcos
DESCRIPTION:The most anticipated holiday event in San Marcos!\n\nFind full details online at www.Sights-n-Sounds.org.
X-ALT-DESC;FMTTYPE=text/html:The most anticipated holiday event in San Marcos!<br />\nFind full details online at www.Sights-n-Sounds.org.
LOCATION:
UID:e.2626.5158132
SEQUENCE:3
DTSTAMP:20260421T135524Z
URL:https://business.sanmarcostexas.com/events/details/sights-sounds-of-christmas-san-marcos-5158132
END:VEVENT

END:VCALENDAR
