BEGIN:VCALENDAR
VERSION:2.0
PRODID:-//ChamberMaster//Event Calendar 2.0//EN
METHOD:PUBLISH
X-PUBLISHED-TTL:P3D
REFRESH-INTERVAL:P3D
CALSCALE:GREGORIAN
BEGIN:VEVENT
DTSTART;VALUE=DATE:20250405
DTEND;VALUE=DATE:20250407
TRANSP:TRANSPARENT
X-MICROSOFT-CDO-ALLDAYEVENT:TRUE
SUMMARY:San Marcos Studio Tour
DESCRIPTION:Event details and other information available on the Visit San Marcos website\, click here.
X-ALT-DESC;FMTTYPE=text/html:Event details and other information available on the Visit San Marcos website\, click <a href="http://VisitSanMarcos.com">here</a>.
LOCATION:To be announced.
UID:e.2626.5160151
SEQUENCE:3
DTSTAMP:20260425T144235Z
URL:https://business.sanmarcostexas.com/events/details/san-marcos-studio-tour-5160151
END:VEVENT

END:VCALENDAR
