BEGIN:VCALENDAR
VERSION:2.0
PRODID:-//ChamberMaster//Event Calendar 2.0//EN
METHOD:PUBLISH
X-PUBLISHED-TTL:P3D
REFRESH-INTERVAL:P3D
CALSCALE:GREGORIAN
BEGIN:VEVENT
DTSTART;VALUE=DATE:20221223
DTEND;VALUE=DATE:20221228
TRANSP:TRANSPARENT
X-MICROSOFT-CDO-ALLDAYEVENT:TRUE
SUMMARY:San Marcos Chamber Office Closed in observance of the Christmas holiday.
DESCRIPTION:Happy Holidays!\n\n \n\nChamber Holiday Hours\n\n\n\n \n\n \n\n\n\nThe Chamber office will be closed\, December 23-27 in observance of the Christmas holiday.\n\nWe will reopen Wednesday\, December 28th at 8:30am. Merry Christmas!
X-ALT-DESC;FMTTYPE=text/html:<div class="text-container galileo-ap-content-editor">\n<div>\n<div><span style="font-size: 24px\;">Happy Holidays!</span></div>\n\n<div><span style="font-size: 24px\;">&#65279\;</span></div>\n\n<div><span style="font-size: 20px\; color: rgb(120\, 157\, 74)\;">Chamber Holiday Hours</span></div>\n</div>\n</div>\n\n<div class="gl-contains-image">&nbsp\;</div>\n\n<div>&nbsp\;</div>\n\n<div class="text-container galileo-ap-content-editor">\n<div>\n<div>The Chamber office will be <span style="font-weight: bold\;">closed</span>\, <span style="font-weight: bold\;">December 23-27&nbsp\;</span>in observance of the Christmas holiday.</div>\n\n<div>We will reopen Wednesday<span style="font-weight: bold\;">\, December 28th</span> at 8:30am. Merry Christmas!</div>\n</div>\n</div>\n
LOCATION:
UID:e.2626.5158119
SEQUENCE:3
DTSTAMP:20260421T134902Z
URL:https://business.sanmarcostexas.com/events/details/san-marcos-chamber-office-closed-in-observance-of-the-christmas-holiday-5158119
END:VEVENT

END:VCALENDAR
