BEGIN:VCALENDAR
VERSION:2.0
PRODID:-//ChamberMaster//Event Calendar 2.0//EN
METHOD:PUBLISH
X-PUBLISHED-TTL:P3D
REFRESH-INTERVAL:P3D
CALSCALE:GREGORIAN
BEGIN:VEVENT
DTSTART:20240902T130000Z
DTEND:20240902T220000Z
X-MICROSOFT-CDO-ALLDAYEVENT:FALSE
SUMMARY:San Marcos Area Chamber Office - Closed
DESCRIPTION:The office will be closed in observance of Labor Day and will reopen on Tuesday\, September 3\, 2024.
X-ALT-DESC;FMTTYPE=text/html:The office will be closed in observance of Labor Day and will reopen on Tuesday\, September 3\, 2024.
LOCATION:
UID:e.2626.5159775
SEQUENCE:3
DTSTAMP:20260425T032733Z
URL:https://business.sanmarcostexas.com/events/details/san-marcos-area-chamber-office-closed-09-02-2024-5159775
END:VEVENT

END:VCALENDAR
