BEGIN:VCALENDAR
VERSION:2.0
PRODID:-//ChamberMaster//Event Calendar 2.0//EN
METHOD:PUBLISH
X-PUBLISHED-TTL:P3D
REFRESH-INTERVAL:P3D
CALSCALE:GREGORIAN
BEGIN:VEVENT
DTSTART:20250405T150000Z
DTEND:20250405T180000Z
X-MICROSOFT-CDO-ALLDAYEVENT:FALSE
SUMMARY:S.T.E.A.M. Fair 2025
DESCRIPTION:What is the S.T.E.A.M. Fair?\n\nIt is a "festival" at San Marcos High School celebrating businesses with connections to Science\, Technology\, Engineering\, Art and Mathematics sectors. The event features local business exhibits plus performances by student groups and some exciting displays. Preparing students for the jobs of tomorrow requires our community to take action today.  S.T.E.A.M. focuses on STEM topics with Arts in the middle! As technology has become a fundamental enabler in almost every business\, a S.T.E.A.M. education opens up a wide range of career paths.  S.T.E.A.M. is critical to students becoming the leaders of tomorrow. Participating businesses encourage students to learn and grow for tomorrow's jobs.\n\n\n\nSign up to be a SPONSOR today! Click "REGISTER" on this page and complete the form. Or simply call Chamber staff at 512-393-5900 and we'll personally get you signed up.  \n\n \n\n Click here to view the sponsorship options \n\nJoin this growing list of generous 2025 sponsors...
X-ALT-DESC;FMTTYPE=text/html:<p century="" font-size:="" style="margin: 0px\; padding: 0px\; color: rgb(93\, 93\, 93)\; font-family: " white-space:=""><span style="font-size:14px\;"><span style="font-family:arial\;"><span style="color: rgb(0\, 0\, 0)\; font-weight: bold\;">What is the S.T.E.A.M. Fair?</span></span></span></p>\n\n<p century="" font-size:="" style="margin: 0px\; padding: 0px\; color: rgb(93\, 93\, 93)\; font-family: " white-space:=""><span style="font-size:14px\;"><span style="font-family:arial\;"><span style="color:#000000\;">It is a &quot\;festival&quot\; at San Marcos High School celebrating businesses with connections to Science\, Technology\, Engineering\, Art and Mathematics sectors. The event features local business exhibits plus performances by student groups and some exciting displays.&nbsp\;Preparing students for the jobs of tomorrow requires our community to take action today. &nbsp\;S.T.E.A.M. focuses on STEM topics with Arts in the middle! As technology has become a fundamental enabler in almost every business\, a S.T.E.A.M. education opens up a&nbsp\;wide&nbsp\;range of career paths.&nbsp\; S.T.E.A.M. is critical to students becoming the leaders of tomorrow.&nbsp\;Participating businesses&nbsp\;encourage&nbsp\;students to learn and grow for tomorrow&#39\;s jobs.<br />\n<br />\nSign up to be a SPONSOR today! Click &quot\;REGISTER&quot\; on this page and complete the form. Or simply call Chamber staff at 512-393-5900 and we&#39\;ll personally get you signed up.&nbsp\;</span>&nbsp\;</span></span><br />\n&nbsp\;</p>\n\n<p century="" font-size:="" style="margin: 0px\; padding: 0px\; color: rgb(93\, 93\, 93)\; font-family: " white-space:=""><strong><span style="font-family:arial\;"><a href="https://chambermaster.blob.core.windows.net/userfiles/UserFiles/chambers/2626/File/2025STEAMFairSponsorships3.5.251.pdf">&#8203\;Click here to view the sponsorship options</a> </span></strong></p>\n\n<h1 align="justify" century="" font-size:="" style="font-style: italic\;" text-align:=""><span style="font-size:14px\;"><span style="font-family:arial\;"><span style="box-sizing: border-box\;"><span style="box-sizing: border-box\; font-weight: bolder\; color: unset\;"><span style="box-sizing: border-box\; color: rgb(20\, 57\, 89)\;">Join this growing list of generous 2025&nbsp\;sponsors...</span></span></span></span></span></h1>\n
LOCATION:San Marcos High School 2601 Rattler Road San Marcos\, TX 78666
UID:e.2626.5160010
SEQUENCE:3
DTSTAMP:20260425T160428Z
URL:https://business.sanmarcostexas.com/events/details/s-t-e-a-m-fair-2025-5160010
END:VEVENT

END:VCALENDAR
