BEGIN:VCALENDAR
VERSION:2.0
PRODID:-//ChamberMaster//Event Calendar 2.0//EN
METHOD:PUBLISH
X-PUBLISHED-TTL:P3D
REFRESH-INTERVAL:P3D
CALSCALE:GREGORIAN
BEGIN:VEVENT
DTSTART:20250301T010000Z
DTEND:20250301T040000Z
X-MICROSOFT-CDO-ALLDAYEVENT:FALSE
SUMMARY:Rotary Casino Night
DESCRIPTION:Rotary Casino Night fundraiser. Gaming\, food\, beverages\, prices\, and a $9\,300 diamond raffle. There is a Mardi Gras theme this year. 75% of proceeds benefit the Damphousse Foster Educational Endowment at Texas State. The other 25% funds other service projects in San Marcos. The event is held in a aircraft hanger filled with historic WW2 planes and an artifact museum.
X-ALT-DESC;FMTTYPE=text/html:Rotary Casino Night fundraiser. Gaming\, food\, beverages\, prices\, and a $9\,300 diamond raffle. There is a Mardi Gras theme this year. 75% of proceeds benefit the Damphousse Foster Educational Endowment at Texas State. The other 25% funds other service projects in San Marcos. The event is held in a aircraft hanger filled with historic WW2 planes and an artifact museum.
LOCATION:Centex Wing Commemorative Air Force Museum\, San Marcos Airport.
UID:e.2626.5160072
SEQUENCE:3
DTSTAMP:20260425T131154Z
URL:https://business.sanmarcostexas.com/events/details/rotary-casino-night-5160072
END:VEVENT

END:VCALENDAR
