BEGIN:VCALENDAR
VERSION:2.0
PRODID:-//ChamberMaster//Event Calendar 2.0//EN
METHOD:PUBLISH
X-PUBLISHED-TTL:P3D
REFRESH-INTERVAL:P3D
CALSCALE:GREGORIAN
BEGIN:VEVENT
DTSTART:20241024T160000Z
DTEND:20241024T163000Z
X-MICROSOFT-CDO-ALLDAYEVENT:FALSE
SUMMARY:Ribbon Cutting The San Market
DESCRIPTION:The San Marcos Area Chamber's Ambassador Club is hosting a Ribbon ribbon-cutting ceremony for this New Member: The San Market.\n\n\n\n\n\n\n\nPlan to attend and join in the celebration! Make new connections to grow your business!
X-ALT-DESC;FMTTYPE=text/html:<span style="font-size:14px\;"><span style="font-family:arial\;"><span style="color:#000000\;">The San Marcos Area Chamber&#39\;s Ambassador Club is hosting a Ribbon ribbon-cutting ceremony for this New Member: The San Market.</span></span></span><br />\n<br />\n<br />\n<br />\n<span style="font-size:14px\;"><span style="font-family:arial\;"><span style="color:#000000\;">Plan to attend and join in the celebration! Make new connections to grow your business!</span></span></span><br />\n<br />\n<br />\n&nbsp\;
LOCATION:The San Market 114 E San Antonio Street San Marcos\, TX 78666
UID:e.2626.5159784
SEQUENCE:3
DTSTAMP:20260425T032733Z
URL:https://business.sanmarcostexas.com/events/details/ribbon-cutting-the-san-market-5159784
END:VEVENT

END:VCALENDAR
