BEGIN:VCALENDAR
VERSION:2.0
PRODID:-//ChamberMaster//Event Calendar 2.0//EN
METHOD:PUBLISH
X-PUBLISHED-TTL:P3D
REFRESH-INTERVAL:P3D
CALSCALE:GREGORIAN
BEGIN:VEVENT
DTSTART:20260521T160000Z
DTEND:20260521T163000Z
X-MICROSOFT-CDO-ALLDAYEVENT:FALSE
SUMMARY:Ribbon Cutting Texas State Optical of San Marcos
DESCRIPTION:The San Marcos Area Chamber's Ambassador Club is hosting a Ribbon Cutting Ceremony for this New Member: Texas State Optical of San Marcos
X-ALT-DESC;FMTTYPE=text/html:The San Marcos Area Chamber&#39\;s Ambassador Club is hosting a Ribbon Cutting Ceremony for this New Member: Texas State Optical of San Marcos&nbsp\;
LOCATION:TSO of San Marcos The Ribbon Cutting will be held at 141 West Hopkins St. Suite 139 San Marcos\, TX 78666
UID:e.2626.5162180
SEQUENCE:3
DTSTAMP:20260421T004139Z
URL:https://business.sanmarcostexas.com/events/details/ribbon-cutting-texas-state-optical-of-san-marcos-5162180
END:VEVENT

END:VCALENDAR
