BEGIN:VCALENDAR
VERSION:2.0
PRODID:-//ChamberMaster//Event Calendar 2.0//EN
METHOD:PUBLISH
X-PUBLISHED-TTL:P3D
REFRESH-INTERVAL:P3D
CALSCALE:GREGORIAN
BEGIN:VEVENT
DTSTART:20141218T163000Z
DTEND:20141218T170000Z
X-MICROSOFT-CDO-ALLDAYEVENT:FALSE
SUMMARY:Ribbon Cutting - Texas Farm Bureau
DESCRIPTION:The San Marcos Area Chamber of Commerce Ambassador Club is holding a Ribbon Cutting Ceremony for Texas Farm Bureau to welcome them as a new Chamber member investor.  Please join us in welcoming Texas Farm Bureau as a new Chamber member investor.
X-ALT-DESC;FMTTYPE=text/html:The San Marcos Area Chamber of Commerce Ambassador Club is holding a Ribbon Cutting Ceremony for Texas Farm Bureau to welcome them as a new Chamber member investor.  Please join us in welcoming Texas Farm Bureau as a new Chamber member investor.
LOCATION:Gazebo by the Cottage Kitchen
UID:e.2626.95079
SEQUENCE:3
DTSTAMP:20260421T082144Z
URL:https://business.sanmarcostexas.com/events/details/ribbon-cutting-texas-farm-bureau-12-18-2014-95079
END:VEVENT

END:VCALENDAR
