BEGIN:VCALENDAR
VERSION:2.0
PRODID:-//ChamberMaster//Event Calendar 2.0//EN
METHOD:PUBLISH
X-PUBLISHED-TTL:P3D
REFRESH-INTERVAL:P3D
CALSCALE:GREGORIAN
BEGIN:VEVENT
DTSTART:20260507T150000Z
DTEND:20260507T153000Z
X-MICROSOFT-CDO-ALLDAYEVENT:FALSE
SUMMARY:Ribbon Cutting Swing Station
DESCRIPTION:The San Marcos Area Chamber's Ambassador Club is hosting a hosting a Ribbon Cutting Ceremony for this New Member: Swing Station
X-ALT-DESC;FMTTYPE=text/html:The San Marcos Area Chamber&#39\;s Ambassador Club is hosting a hosting a Ribbon Cutting Ceremony for this New Member: Swing Station
LOCATION:Swing Station The Ribbon Cutting will be held at: 1900 I 35 N. Frontage Rd. Suite 104 San Marcos\, TX 78666
UID:e.2626.5162179
SEQUENCE:3
DTSTAMP:20260421T004115Z
URL:https://business.sanmarcostexas.com/events/details/ribbon-cutting-swing-station-5162179
END:VEVENT

END:VCALENDAR
