BEGIN:VCALENDAR
VERSION:2.0
PRODID:-//ChamberMaster//Event Calendar 2.0//EN
METHOD:PUBLISH
X-PUBLISHED-TTL:P3D
REFRESH-INTERVAL:P3D
CALSCALE:GREGORIAN
BEGIN:VEVENT
DTSTART:20250206T160000Z
DTEND:20250206T163000Z
X-MICROSOFT-CDO-ALLDAYEVENT:FALSE
SUMMARY:Ribbon Cutting-Sundance Print Centers
DESCRIPTION:The San Marcos Area Chamber's Ambassador Club is hosting a Ribbon Cutting Ceremony for this New Member: Sundance Print Centers.
X-ALT-DESC;FMTTYPE=text/html:The San Marcos Area Chamber&#39\;s Ambassador Club is hosting a Ribbon Cutting Ceremony for this New Member: Sundance Print Centers.
LOCATION:Sundance Print Centers The Ribbon Cutting will be held at: 303 North Edward Gary San Marcos\, TX 78666
UID:e.2626.5160241
SEQUENCE:3
DTSTAMP:20260425T131303Z
URL:https://business.sanmarcostexas.com/events/details/ribbon-cutting-sundance-print-centers-5160241
END:VEVENT

END:VCALENDAR
