BEGIN:VCALENDAR
VERSION:2.0
PRODID:-//ChamberMaster//Event Calendar 2.0//EN
METHOD:PUBLISH
X-PUBLISHED-TTL:P3D
REFRESH-INTERVAL:P3D
CALSCALE:GREGORIAN
BEGIN:VEVENT
DTSTART:20260514T160000Z
DTEND:20260514T163000Z
X-MICROSOFT-CDO-ALLDAYEVENT:FALSE
SUMMARY:Ribbon Cutting-Strait & Nelson
DESCRIPTION:The San Marcos Area Chamber's Ambassador Club is hosting a Ribbon Cutting Ceremony for this New Member: Strait & Nelson Apartments
X-ALT-DESC;FMTTYPE=text/html:<p>The San Marcos Area Chamber&#39\;s Ambassador Club is hosting a Ribbon Cutting Ceremony for this New Member: Strait &amp\; Nelson Apartments</p>\n
LOCATION:Strait & Nelson Apartments The Ribbon Cutting will be held at 2380 Staples San Marcos\, TX 78666
UID:e.2626.5161595
SEQUENCE:3
DTSTAMP:20260421T004450Z
URL:https://business.sanmarcostexas.com/events/details/ribbon-cutting-strait-nelson-5161595
END:VEVENT

END:VCALENDAR
