BEGIN:VCALENDAR
VERSION:2.0
PRODID:-//ChamberMaster//Event Calendar 2.0//EN
METHOD:PUBLISH
X-PUBLISHED-TTL:P3D
REFRESH-INTERVAL:P3D
CALSCALE:GREGORIAN
BEGIN:VEVENT
DTSTART:20260409T150000Z
DTEND:20260409T153000Z
X-MICROSOFT-CDO-ALLDAYEVENT:FALSE
SUMMARY:Ribbon Cutting Slim Chickens
DESCRIPTION:The San Marcos Area Chamber's Ambassador Club is hosting a Ribbon Cutting Ceremony for this New Member: Slim Chickens
X-ALT-DESC;FMTTYPE=text/html:The San Marcos Area Chamber&#39\;s Ambassador Club is hosting a Ribbon Cutting Ceremony for this New Member: Slim Chickens
LOCATION:Slim Chickens The Ribbon Cutting will be held at 4002 S IH 35 San Marcos\, TX 78666
UID:e.2626.5161469
SEQUENCE:3
DTSTAMP:20260420T183058Z
URL:https://business.sanmarcostexas.com/events/details/ribbon-cutting-slim-chickens-5161469
END:VEVENT

END:VCALENDAR
