BEGIN:VCALENDAR
VERSION:2.0
PRODID:-//ChamberMaster//Event Calendar 2.0//EN
METHOD:PUBLISH
X-PUBLISHED-TTL:P3D
REFRESH-INTERVAL:P3D
CALSCALE:GREGORIAN
BEGIN:VEVENT
DTSTART:20260326T150000Z
DTEND:20260326T153000Z
X-MICROSOFT-CDO-ALLDAYEVENT:FALSE
SUMMARY:Ribbon Cutting PALS Prevent a Litter of Central TX
DESCRIPTION:The San Marcos Area Chamber's Ambassador Club is hosting a Ribbon Cutting Ceremony for this New Member: PALS Prevent a Litter of Central TX
X-ALT-DESC;FMTTYPE=text/html:The San Marcos Area Chamber&#39\;s Ambassador Club is hosting a Ribbon Cutting Ceremony for this New Member: PALS Prevent a Litter of Central TX
LOCATION:PALS Prevent a Litter of Central TX The Ribbon Cutting will be held at 8401 Ranch Road 12 San Marcos\, TX 78666
UID:e.2626.5160833
SEQUENCE:3
DTSTAMP:20260421T004845Z
URL:https://business.sanmarcostexas.com/events/details/ribbon-cutting-pals-prevent-a-litter-of-central-tx-5160833
END:VEVENT

END:VCALENDAR
