BEGIN:VCALENDAR
VERSION:2.0
PRODID:-//ChamberMaster//Event Calendar 2.0//EN
METHOD:PUBLISH
X-PUBLISHED-TTL:P3D
REFRESH-INTERVAL:P3D
CALSCALE:GREGORIAN
BEGIN:VEVENT
DTSTART:20190815T160000Z
DTEND:20190815T163000Z
X-MICROSOFT-CDO-ALLDAYEVENT:FALSE
SUMMARY:Ribbon Cutting - My Buddy's Pet Resort
DESCRIPTION:The San Marcos Area Chamber of Commerce Ambassador Club is holding a Ribbon Cutting Ceremony for My Buddy's Pet Resort.\n\n\n\nPlease join us for the Ribbon Cutting Ceremony on Thursday\, August 15\, 2019\, at 11:00 a.m.
X-ALT-DESC;FMTTYPE=text/html:<span style="font-family:times new roman\;"><span style="color:#000000\;">The San Marcos Area Chamber of Commerce Ambassador Club is holding a Ribbon Cutting Ceremony for My Buddy&#39\;s Pet Resort.<br />\n<br />\nPlease join us for the Ribbon Cutting Ceremony on Thursday\, August 15\, 2019\, at 11:00 a.m.</span></span>
LOCATION:My Buddy's Pet Resort Location: 177 Coachman Dr. San Marcos\, TX 78666
UID:e.2626.5155121
SEQUENCE:3
DTSTAMP:20260421T220953Z
URL:https://business.sanmarcostexas.com/events/details/ribbon-cutting-my-buddy-s-pet-resort-08-15-2019-5155121
END:VEVENT

END:VCALENDAR
