BEGIN:VCALENDAR
VERSION:2.0
PRODID:-//ChamberMaster//Event Calendar 2.0//EN
METHOD:PUBLISH
X-PUBLISHED-TTL:P3D
REFRESH-INTERVAL:P3D
CALSCALE:GREGORIAN
BEGIN:VEVENT
DTSTART:20240905T160000Z
DTEND:20240905T163000Z
X-MICROSOFT-CDO-ALLDAYEVENT:FALSE
SUMMARY:Ribbon Cutting Melrose River Club
DESCRIPTION:The San Marcos Area Chamber's Ambassador Club is hosting a Ribbon Cutting Ceremony for this New Member: Melrose River Club.\n\n\n\n\n\n\n\nPlan to attend and join in the celebration! Make new connections to grow your business!
X-ALT-DESC;FMTTYPE=text/html:<span style="font-size:14px\;"><span style="font-family:arial\;"><span style="color:#000000\;">The San Marcos Area Chamber&#39\;s Ambassador Club is hosting a Ribbon Cutting Ceremony for this New Member: Melrose River Club.<br />\n<br />\n<br />\n<br />\nPlan to attend and join in the celebration! Make new connections to grow your business!</span></span></span><br />\n<br />\n<br />\n&nbsp\;
LOCATION:Melrose River Club 70 Riverbend Dr. San Marcos\, TX 78666
UID:e.2626.5159765
SEQUENCE:3
DTSTAMP:20260425T032419Z
URL:https://business.sanmarcostexas.com/events/details/ribbon-cutting-melrose-river-club-5159765
END:VEVENT

END:VCALENDAR
