BEGIN:VCALENDAR
VERSION:2.0
PRODID:-//ChamberMaster//Event Calendar 2.0//EN
METHOD:PUBLISH
X-PUBLISHED-TTL:P3D
REFRESH-INTERVAL:P3D
CALSCALE:GREGORIAN
BEGIN:VEVENT
DTSTART:20260521T150000Z
DTEND:20260521T153000Z
X-MICROSOFT-CDO-ALLDAYEVENT:FALSE
SUMMARY:Ribbon Cutting Just A Closet Self Storage
DESCRIPTION:The San Marcos Area Chamber's Ambassador Club is hosting a Ribbon Cutting Ceremony for this New Member: Just A Closet Self Storage
X-ALT-DESC;FMTTYPE=text/html:The San Marcos Area Chamber&#39\;s Ambassador Club is hosting a Ribbon Cutting Ceremony for this New Member: Just A Closet Self Storage
LOCATION:Just A Closet Self Storage The Ribbon Cutting will be held at: 4508 Hwy 123 San Marcos\, TX 78666
UID:e.2626.5162191
SEQUENCE:3
DTSTAMP:20260425T222833Z
URL:https://business.sanmarcostexas.com/events/details/ribbon-cutting-just-a-closet-self-storage-5162191
END:VEVENT

END:VCALENDAR
