BEGIN:VCALENDAR
VERSION:2.0
PRODID:-//ChamberMaster//Event Calendar 2.0//EN
METHOD:PUBLISH
X-PUBLISHED-TTL:P3D
REFRESH-INTERVAL:P3D
CALSCALE:GREGORIAN
BEGIN:VEVENT
DTSTART:20260402T160000Z
DTEND:20260402T163000Z
X-MICROSOFT-CDO-ALLDAYEVENT:FALSE
SUMMARY:Ribbon Cutting Glass Doctor Auto of San Marcos
DESCRIPTION:The San Marcos Area Chamber's Ambassador Club is hosting a Ribbon Cutting Ceremony for this New Member: Glass Doctor Auto of San Marcos
X-ALT-DESC;FMTTYPE=text/html:The San Marcos Area Chamber&#39\;s Ambassador Club is hosting a Ribbon Cutting Ceremony for this New Member: Glass Doctor Auto of San Marcos
LOCATION:Glass Doctor Auto of San Marcos The Ribbon Cutting will be held at 504 SH-123 Bldg. 100 Suite 3 San Marcos\, TX 78666
UID:e.2626.5161594
SEQUENCE:3
DTSTAMP:20260420T195510Z
URL:https://business.sanmarcostexas.com/events/details/ribbon-cutting-glass-doctor-auto-of-san-marcos-5161594
END:VEVENT

END:VCALENDAR
