BEGIN:VCALENDAR
VERSION:2.0
PRODID:-//ChamberMaster//Event Calendar 2.0//EN
METHOD:PUBLISH
X-PUBLISHED-TTL:P3D
REFRESH-INTERVAL:P3D
CALSCALE:GREGORIAN
BEGIN:VEVENT
DTSTART:20260528T160000Z
DTEND:20260528T163000Z
X-MICROSOFT-CDO-ALLDAYEVENT:FALSE
SUMMARY:Ribbon Cutting Fraiser Ranch/Lovin on Langley & Friends
DESCRIPTION:The San Marcos Area Chamber's Ambassador Club is hosting a Ribbon Cutting for this New Member:\n\nFraiser Ranch/Lovin' on Langley & Friends
X-ALT-DESC;FMTTYPE=text/html:The San Marcos Area Chamber&#39\;s Ambassador Club is hosting a Ribbon Cutting for this New Member:<br />\nFraiser Ranch/Lovin&#39\; on Langley &amp\; Friends<br />\n&nbsp\;
LOCATION:Fraiser Ranch/Lovin' on Langley & Friends The Ribbon Cutting will be held at: 1380 Railroad St. Maxwell\, TX 78656
UID:e.2626.5162192
SEQUENCE:3
DTSTAMP:20260425T210830Z
URL:https://business.sanmarcostexas.com/events/details/ribbon-cutting-fraiser-ranch-lovin-on-langley-friends-5162192
END:VEVENT

END:VCALENDAR
