BEGIN:VCALENDAR
VERSION:2.0
PRODID:-//ChamberMaster//Event Calendar 2.0//EN
METHOD:PUBLISH
X-PUBLISHED-TTL:P3D
REFRESH-INTERVAL:P3D
CALSCALE:GREGORIAN
BEGIN:VEVENT
DTSTART:20250306T174500Z
DTEND:20250306T182000Z
X-MICROSOFT-CDO-ALLDAYEVENT:FALSE
SUMMARY:Ribbon Cutting-Fine Art & Murals by Michi
DESCRIPTION:The San Marcos Area Chamber's Ambassador Club is hosting a Ribbon Cutting Ceremony for this New Member: Fine Art & Murals by Michi
X-ALT-DESC;FMTTYPE=text/html:The San Marcos Area Chamber&#39\;s Ambassador Club is hosting a Ribbon Cutting Ceremony for this New Member: Fine Art &amp\; Murals by Michi
LOCATION:Fine Art & Murals by Michi The Ribbon Cutting will be held in front of Michelle Wilson's Mural on Fletner Alley adjacent to the Price Center 202 San Antonio St.\, San Marcos TX 78666
UID:e.2626.5160269
SEQUENCE:3
DTSTAMP:20260425T143845Z
URL:https://business.sanmarcostexas.com/events/details/ribbon-cutting-fine-art-murals-by-michi-5160269
END:VEVENT

END:VCALENDAR
