BEGIN:VCALENDAR
VERSION:2.0
PRODID:-//ChamberMaster//Event Calendar 2.0//EN
METHOD:PUBLISH
X-PUBLISHED-TTL:P3D
REFRESH-INTERVAL:P3D
CALSCALE:GREGORIAN
BEGIN:VEVENT
DTSTART:20250306T160000Z
DTEND:20250306T163000Z
X-MICROSOFT-CDO-ALLDAYEVENT:FALSE
SUMMARY:Ribbon Cutting CHRISTUS Urgent Care
DESCRIPTION:The San Marcos Chamber's Ambassador Club is hosting a Ribbon Cutting Ceremony for this New Member: CHRISTUS Urgent Care
X-ALT-DESC;FMTTYPE=text/html:The San Marcos Chamber&#39\;s Ambassador Club is hosting a Ribbon Cutting Ceremony for this New Member: CHRISTUS Urgent Care
LOCATION:CHRISTUS Urgent Care The Ribbon Cutting will be held at 1430 N I-35 Suite 106 San Marcos\, TX 78666
UID:e.2626.5160260
SEQUENCE:3
DTSTAMP:20260423T085035Z
URL:https://business.sanmarcostexas.com/events/details/ribbon-cutting-christus-urgent-care-5160260
END:VEVENT

END:VCALENDAR
