BEGIN:VCALENDAR
VERSION:2.0
PRODID:-//ChamberMaster//Event Calendar 2.0//EN
METHOD:PUBLISH
X-PUBLISHED-TTL:P3D
REFRESH-INTERVAL:P3D
CALSCALE:GREGORIAN
BEGIN:VEVENT
DTSTART:20250313T190000Z
DTEND:20250313T193000Z
X-MICROSOFT-CDO-ALLDAYEVENT:FALSE
SUMMARY:Ribbon Cutting Arden 231 Apartments
DESCRIPTION:The San Marcos Area Chamber's Ambassador Club is hosting a Ribbon Cutting Ceremony for this New Member: Arden 231 Apartments
X-ALT-DESC;FMTTYPE=text/html:The San Marcos Area Chamber&#39\;s Ambassador Club is hosting a Ribbon Cutting Ceremony for this New Member: Arden 231 Apartments<br />\n&nbsp\;
LOCATION:Arden 231 Apartments The Ribbon Cutting will be held at 231 Windsor Blvd. San Marcos\, TX 78666
UID:e.2626.5160193
SEQUENCE:3
DTSTAMP:20260425T143845Z
URL:https://business.sanmarcostexas.com/events/details/ribbon-cutting-arden-231-apartments-5160193
END:VEVENT

END:VCALENDAR
