BEGIN:VCALENDAR
VERSION:2.0
PRODID:-//ChamberMaster//Event Calendar 2.0//EN
METHOD:PUBLISH
X-PUBLISHED-TTL:P3D
REFRESH-INTERVAL:P3D
CALSCALE:GREGORIAN
BEGIN:VEVENT
DTSTART:20260319T170000Z
DTEND:20260319T190000Z
X-MICROSOFT-CDO-ALLDAYEVENT:FALSE
SUMMARY:Realtor Roundtable
DESCRIPTION:This is a chance to present your listings with other agents. We'll discuss current market challenges and showcase your amazing listings. This is a great to catch up\, connect and maybe find your next deal for your buyers.
X-ALT-DESC;FMTTYPE=text/html:This is a chance to present your listings with other agents. We&#39\;ll discuss current market challenges and showcase your amazing listings. This is a great to catch up\, connect and maybe find your next deal for your buyers.&nbsp\;
LOCATION:Casa of Central Texas 2725 Hunter Rd San Marcos TX 78666
UID:e.2626.5161592
SEQUENCE:3
DTSTAMP:20260421T004457Z
URL:https://business.sanmarcostexas.com/events/details/realtor-roundtable-03-19-2026-5161592
END:VEVENT

END:VCALENDAR
