BEGIN:VCALENDAR
VERSION:2.0
PRODID:-//ChamberMaster//Event Calendar 2.0//EN
METHOD:PUBLISH
X-PUBLISHED-TTL:P3D
REFRESH-INTERVAL:P3D
CALSCALE:GREGORIAN
BEGIN:VEVENT
DTSTART:20260508T180000Z
DTEND:20260508T200000Z
X-MICROSOFT-CDO-ALLDAYEVENT:FALSE
SUMMARY:Realtor Pop By Make & Take
DESCRIPTION:This event is for realtors. You will be able to make a pop by for your clients. Thanks to all the sponsors you will be provided all the supplies to put together cute fresh flower hand-tied bouquets. Come hang out with us and get a couple cute little gifts to reconnect\, thank or stay in front of your clients.
X-ALT-DESC;FMTTYPE=text/html:This event is for realtors. You will be able to make a pop by for your clients. Thanks to all the sponsors you will be provided all the supplies to put together cute fresh flower hand-tied bouquets. Come hang out with us and get a couple cute little gifts to reconnect\, thank or stay in front of your clients.&nbsp\;
LOCATION:Water 2 Wine 304 S Main St #103 Buda TX 78610
UID:e.2626.5162190
SEQUENCE:3
DTSTAMP:20260425T222751Z
URL:https://business.sanmarcostexas.com/events/details/realtor-pop-by-make-take-05-08-2026-5162190
END:VEVENT

END:VCALENDAR
