BEGIN:VCALENDAR
VERSION:2.0
PRODID:-//ChamberMaster//Event Calendar 2.0//EN
METHOD:PUBLISH
X-PUBLISHED-TTL:P3D
REFRESH-INTERVAL:P3D
CALSCALE:GREGORIAN
BEGIN:VEVENT
DTSTART:20260328T170000Z
DTEND:20260328T200000Z
X-MICROSOFT-CDO-ALLDAYEVENT:FALSE
SUMMARY:PALS One Year Anniversary "Paw-rty"
DESCRIPTION:Come join us to celebrate our one-year anniversary of moving to our new clinic on Ranch Road 12! You can tour the clinic and our brand new cat shack\, plus there will be free food\, drinks\, music\, games\, raffles\, and more! Members and future members\, this is the time to come and hear about PALS' accomplishments in 2025 and hear what's planned for 2026!
X-ALT-DESC;FMTTYPE=text/html:Come join us to celebrate our one-year anniversary of moving to our new clinic on Ranch Road 12! You can tour the clinic and our brand new cat shack\, plus there will be free food\, drinks\, music\, games\, raffles\, and more! Members and future members\, this is the time to come and hear about PALS&#39\; accomplishments in 2025 and hear what&#39\;s planned for 2026!
LOCATION:8401 Ranch Road 12 San Marcos\, TX 78666
UID:e.2626.5161596
SEQUENCE:3
DTSTAMP:20260421T004557Z
URL:https://business.sanmarcostexas.com/events/details/pals-one-year-anniversary-paw-rty-5161596
END:VEVENT

END:VCALENDAR
