BEGIN:VCALENDAR
VERSION:2.0
PRODID:-//ChamberMaster//Event Calendar 2.0//EN
METHOD:PUBLISH
X-PUBLISHED-TTL:P3D
REFRESH-INTERVAL:P3D
CALSCALE:GREGORIAN
BEGIN:VEVENT
DTSTART:20240824T190000Z
DTEND:20240824T210000Z
X-MICROSOFT-CDO-ALLDAYEVENT:FALSE
SUMMARY:OPEN AUDITIONS: Miracle On 34th Street
DESCRIPTION:Audition Notice: \n\nMiracle On 34th Street\n\n\n\nAdapted by Mountain Community Theater from the novel by Valentine Davies. Based upon the Twentieth Century Fox motion picture Miracle on 34th Street.\n\n\n\nProduced by special arrangement with THE DRAMATIC PUBLISHING COMPANY of Woodstock\, Illinois\n\n\n\nCompany & Audition Venue:   \n\nThe Wimberley Players\, 450 Old Kyle Rd. Wimberley TX. 78676\n\n\n\nDirected by:  Karin Cunningham\n\n\n\nAudition Dates:\n\n     * Friday\, August 23 rd 7-9 pm\n\n     * Saturday\, August 24 th 2-4 pm\n\nIf you are unavailable for the in-person date\, please contact the Artistic Team at artistic@wimberleyplayers.org to make alternate arrangements.\n\n     * VIDEO auditions accepted until Sunday\, August 24\, 2024.\n\n\n\nAppointment Form (click link):   https://forms.gle/wxnRHPox31eRs5ja9\n\n(all actors must submit form - including headshots\, resumes\, and video file or link if needed)\n\n\n\nCallbacks (if needed):  Sunday\, August 25 th 3-6 pm. Sides will be provided.\n\n \nHow to Prepare:   1 2-minute contemporary monologue (comedic or dramatic)\n\n \nRehearsals:  Table read will be September 17th. Staging rehearsals will begin shortly after depending on cast conflicts.        \n\n\n\nTech Rehearsals:  Will be November 9th and 10th\,  12pm to 9pm.\n\n\n\nDress Rehearsals:   Tuesday/Wednesday/Thursday - November 12th thru 14th\,  6 -11pm.\n\n\n\nProduction Dates:  November 15th thru December 8th. Friday and Saturday night curtain is 7:30pm and Sunday matinee curtain is at 2:30 pm.\n\n\n\nCompensation:  All actors are offered a stipend.\n\n\n\nAbout the Play:   "Adapted by the Mountain Community Theater from Valentine Davies' novel and inspired by the classic 1947 film\, this enchanting play brings to life the story of Kris Kringle\, a white- bearded gentleman who claims to be the real Santa Claus. Through his charm and sincerity\, Kris performs a remarkable feat\, proving to Doris\, a skeptical single mother\, her serious young daughter Susan\, and the entire city of New York that Santa is indeed real. With a vibrant cast of characters and a heartwarming narrative\, this play transports audiences back to the true spirit of Christmas\, reminding us all of the magic and wonder of the holiday season.\n\n\n\nTime and Place:   1940's New York City..\n\n\n\nCharacters:\n\n\n\nKris Kringle\n\n40+ years Kind gentle kind demeanor. Willing to grow a beard\n\n\n\nDoris Walker \n\nLate 20's early 30's Seems very put together and in control but very guarded\n\n\n\nSusan Walker\n\n7-10 years Precocious\, sweet\, and guarded\n\n\n\nFred Gayley \n\n35-45 years Doris\; neighbor strong masculine presence but gentle soul\n\n\n\nMrs. "Shelly" Shellhammer \n\n30+ years Doris\; assistant/friend maybe slightly older A little quirky\n\n\n\nDr. Pierce \n\n30+ years Maplewood Physician gentle and kind\n\n\n\nJudge Henry Harper \n\n40+ years Kindly NY State Judge\n\n\n\nMr. Houliran / Drunk Santa \n\n40+ years Seasoned campaign manager for Judge Harper\n\n\n\nMr. Sawyer \n\n30+ years Nervous fastidious - Macy's vocational guidance counselor\n\n\n\nMr. Tom Mara\, DA\n\n30-45 years Serious about his job family man - Prosecuting Attorney\n\n\n\nMr. Macy / Caroler \n\n40+ year Larger than life blow hard. Singer\n\n\n\nMr. Gimble / Caroler \n\n40+ years Larger than life blow hard. Singer\n\n\n\nMrs. Mara / Rich Lady / Caroler \n\nlate 20's early 30's DA's wife\, Tommy's mother a bit of a snob. Singer\n\n\n\nMother (Sharon) /Caroler \n\nlate 20's early 30's Sharon's mother Singer\n\n\n\nBag Lady / Mother (Johnny) \n\nlate 20's early 30's Johnny's mother exhausted with a dry sense of humor Singer\n\n\n\nMother (Maryke) / Caroler\n\nMid-late 30's  Foster mother of Dutch girl Singer\n\n\n\nSharon / Caroler \n\n10 - 12 years Singer\n\n\n\nJohnny / Caroler \n\n10 - 12 years Singer\n\n \n\nTommy Mara\, Jr. / Elf W \n\n10 - 12 years Singer\n\n\n\nBailiff Finley / Elf J /  Photographer - 18+ years\n\n\n\nPostal Wkr / Elf Q / Photographer  - 18+ years\n\n\n\nPostal Wkr / Elf Z - 18+ years\n\n\n\nZookeeper / Elf R - 18+ years - Antelope keeper Central Park Zoo
X-ALT-DESC;FMTTYPE=text/html:<div><span style="color:#FF0000"><strong>Audition Notice:&nbsp\;</strong></span></div>\n\n<div><strong>Miracle On 34th Street</strong></div>\n\n<div><br />\nAdapted by Mountain Community Theater from the novel by Valentine Davies. Based upon the Twentieth Century Fox motion picture Miracle on 34th Street.</div>\n\n<div><br />\nProduced by special arrangement with THE DRAMATIC PUBLISHING COMPANY of Woodstock\, Illinois<br />\n<br />\n<strong>Company &amp\; Audition Venue: &nbsp\;&nbsp\;</strong>\n\n<div>The Wimberley Players\, 450 Old Kyle Rd. Wimberley TX. 78676</div>\n\n<div><br />\n<strong>Directed by:&nbsp\;</strong>&nbsp\;Karin Cunningham<br />\n<br />\n<strong>Audition Dates:</strong><br />\n&nbsp\; &nbsp\; &nbsp\;* Friday\, August 23 rd 7-9 pm<br />\n&nbsp\; &nbsp\; &nbsp\;* Saturday\, August 24 th 2-4 pm<br />\nIf you are unavailable for the in-person date\, please contact the Artistic Team at&nbsp\;<a href="mailto:artistic@wimberleyplayers.org" style="color: rgb(17\, 85\, 204)\;" target="_blank">artistic@wimberleyplayers.org</a>&nbsp\;to make alternate arrangements.<br />\n&nbsp\; &nbsp\; &nbsp\;* VIDEO auditions accepted until Sunday\, August 24\, 2024.<br />\n<br />\n<strong>Appointment Form (click link):</strong>&nbsp\;&nbsp\;&nbsp\;<a href="https://forms.gle/wxnRHPox31eRs5ja9" style="color: rgb(17\, 85\, 204)\;" target="_blank">https://forms.gle/wxnRHPox31eRs5ja9</a><br />\n(all actors must submit form - including headshots\, resumes\, and video file or link if needed)<br />\n<br />\n<strong>Callbacks (if needed):&nbsp\;</strong>&nbsp\;Sunday\, August 25 th 3-6 pm. Sides will be provided.<br />\n&nbsp\;\n<div><strong>How to Prepare:</strong>&nbsp\;&nbsp\; 1&ndash\;2-minute contemporary monologue (comedic or dramatic)<br />\n&nbsp\;\n<div><strong>Rehearsals:</strong>&nbsp\;&nbsp\;Table read will be September 17th. Staging rehearsals will begin shortly after depending on cast conflicts. &nbsp\; &nbsp\; &nbsp\; &nbsp\;<br />\n<br />\n<strong>Tech Rehearsals:</strong>&nbsp\;&nbsp\;Will be November 9th and 10th\, &nbsp\;12pm to 9pm.<br />\n<br />\n<strong>Dress Rehearsals:</strong>&nbsp\;&nbsp\; Tuesday/Wednesday/Thursday - November 12th thru 14th\, &nbsp\;6 -11pm.<br />\n<br />\n<strong>Production Dates:</strong>&nbsp\;&nbsp\;November 15th thru December 8th. Friday and Saturday night curtain is 7:30pm and Sunday matinee curtain is at 2:30 pm.<br />\n<br />\n<strong>Compensation:&nbsp\;</strong>&nbsp\;All actors are offered a stipend.<br />\n<br />\n<strong>About the Play:</strong>&nbsp\;&nbsp\; &quot\;Adapted by the Mountain Community Theater from Valentine Davies&#39\; novel and inspired by the classic 1947 film\, this enchanting play brings to life the story of Kris Kringle\, a white- bearded gentleman who claims to be the real Santa Claus. Through his charm and sincerity\, Kris performs a remarkable feat\, proving to Doris\, a skeptical single mother\, her serious young daughter Susan\, and the entire city of New York that Santa is indeed real. With a vibrant cast of characters and a heartwarming narrative\, this play transports audiences back to the true spirit of Christmas\, reminding us all of the magic and wonder of the holiday season.<br />\n<br />\n<strong>Time and Place:</strong>&nbsp\;&nbsp\; 1940&rsquo\;s New York City..<br />\n<br />\n<strong><u>Characters:</u></strong><br />\n<br />\n<strong>Kris Kringle</strong></div>\n\n<div>40+ years Kind gentle kind demeanor. Willing to grow a beard<br />\n<br />\n<strong>Doris Walker</strong>&nbsp\;</div>\n\n<div>Late 20&#39\;s early 30&#39\;s Seems very put together and in control but very guarded<br />\n<br />\n<strong>Susan Walker</strong></div>\n\n<div>7-10 years Precocious\, sweet\, and guarded<br />\n<br />\n<strong>Fred Gayley</strong>&nbsp\;</div>\n\n<div>35-45 years Doris\; neighbor strong masculine presence but gentle soul<br />\n<br />\n<strong>Mrs. &quot\;Shelly&quot\; Shellhammer</strong>&nbsp\;</div>\n\n<div>30+ years Doris\; assistant/friend maybe slightly older A little quirky<br />\n<br />\n<strong>Dr. Pierce</strong>&nbsp\;</div>\n\n<div>30+ years Maplewood Physician gentle and kind<br />\n<br />\n<strong>Judge Henry Harper</strong>&nbsp\;</div>\n\n<div>40+ years Kindly NY State Judge<br />\n<br />\n<strong>Mr. Houliran / Drunk Santa</strong>&nbsp\;</div>\n\n<div>40+ years Seasoned campaign manager for Judge Harper<br />\n<br />\n<strong>Mr. Sawyer</strong>&nbsp\;</div>\n\n<div>30+ years Nervous fastidious - Macy&#39\;s vocational guidance counselor<br />\n<br />\n<strong>Mr. Tom Mara\, DA</strong></div>\n\n<div>30-45 years Serious about his job family man - Prosecuting Attorney<br />\n<br />\n<strong>Mr. Macy / Caroler</strong>&nbsp\;</div>\n\n<div>40+ year Larger than life blow hard. Singer<br />\n<br />\n<strong>Mr. Gimble / Caroler</strong>&nbsp\;</div>\n\n<div>40+ years Larger than life blow hard. Singer<br />\n<br />\n<strong>Mrs. Mara / Rich Lady / Caroler</strong>&nbsp\;</div>\n\n<div>late 20&#39\;s early 30&#39\;s DA&#39\;s wife\, Tommy&#39\;s mother a bit of a snob. Singer<br />\n<br />\n<strong>Mother (Sharon) /Caroler</strong>&nbsp\;</div>\n\n<div>late 20&#39\;s early 30&#39\;s Sharon&#39\;s mother Singer<br />\n<br />\n<strong>Bag Lady / Mother (Johnny)</strong>&nbsp\;</div>\n\n<div>late 20&#39\;s early 30&#39\;s Johnny&#39\;s mother exhausted with a dry sense of humor Singer<br />\n<br />\n<strong>Mother (Maryke) / Caroler</strong></div>\n\n<div>Mid-late 30&#39\;s &nbsp\;Foster mother of Dutch girl Singer<br />\n<br />\n<strong>Sharon / Caroler</strong>&nbsp\;</div>\n\n<div>10 - 12 years Singer<br />\n<br />\n<strong>Johnny / Caroler</strong>&nbsp\;</div>\n\n<div>10 - 12 years Singer<br />\n&nbsp\;</div>\n\n<div><strong>Tommy Mara\, Jr. / Elf W</strong>&nbsp\;</div>\n\n<div>10 - 12 years Singer<br />\n<br />\n<strong>Bailiff Finley / Elf J / &nbsp\;Photographer</strong>&nbsp\;- 18+ years<br />\n<br />\n<strong>Postal Wkr / Elf Q / Photographer</strong>&nbsp\;&nbsp\;- 18+ years<br />\n<br />\n<strong>Postal Wkr / Elf Z</strong>&nbsp\;- 18+ years<br />\n<br />\n<strong>Zookeeper / Elf R</strong>&nbsp\;- 18+ years - Antelope keeper Central Park Zoo</div>\n</div>\n</div>\n</div>\n
LOCATION:The Wimberley Players 450 Old Kyle Rd. Wimberley\, TX. 78676 ----------------- 512-847-0575 https://www.wimberleyplayers.org/audition-notices
UID:e.2626.5159740
SEQUENCE:3
DTSTAMP:20260424T221403Z
URL:https://business.sanmarcostexas.com/events/details/open-auditions-miracle-on-34th-street-08-24-2024-5159740
END:VEVENT

END:VCALENDAR
