BEGIN:VCALENDAR
VERSION:2.0
PRODID:-//ChamberMaster//Event Calendar 2.0//EN
METHOD:PUBLISH
X-PUBLISHED-TTL:P3D
REFRESH-INTERVAL:P3D
CALSCALE:GREGORIAN
BEGIN:VEVENT
DTSTART:20221210T230000Z
DTEND:20221211T003000Z
X-MICROSOFT-CDO-ALLDAYEVENT:FALSE
SUMMARY:Night Light Up Stand-Up Paddling Tour
DESCRIPTION:Night Light Up Stand-Up Paddling Tours provide a new way to experience Spring Lake! Floating on top of the crystal-clear waters of the Edwards Aquifer\, paddlers will learn about the unique history of Spring Lake\, one of the longest continually inhabited sites in North America\, and the protection of its critical habitat\, which supports eight endangered and threatened species. Paddlers can also anticipate seeing a variety of wildlife such as turtles\, fish\, and aquatic plants on their tour\, all with a trained and knowledgeable guide available to answer questions. The 1.5-hour experience includes: - Introduction to the unique history and habitat of Spring Lake - Check-in\, safety\, and skills debrief - Hour-long guided stand-up paddling tour Space is limited to 8 people per tour\, and participants must be 12 years or older. The weight limit for the stand-up paddleboards is 285 pounds. All gear such as life jackets\, paddleboards\, and paddles will be provided by the Meadows Center. Beginner and experienced stand-up paddlers are welcome. To learn more about participant requirements and to register for a stand-up paddling tour\, visit www.meadowscenter.txst.edu/Education/PaddlingTours. To schedule a private or group stand-up paddling tour\, email springlaketours@txstate.edu
X-ALT-DESC;FMTTYPE=text/html:Night Light Up Stand-Up Paddling Tours provide a new way to experience Spring Lake! Floating on top of the crystal-clear waters of the Edwards Aquifer\, paddlers will learn about the unique history of Spring Lake\, one of the longest continually inhabited sites in North America\, and the protection of its critical habitat\, which supports eight endangered and threatened species. Paddlers can also anticipate seeing a variety of wildlife such as turtles\, fish\, and aquatic plants on their tour\, all with a trained and knowledgeable guide available to answer questions. The 1.5-hour experience includes: - Introduction to the unique history and habitat of Spring Lake - Check-in\, safety\, and skills debrief - Hour-long guided stand-up paddling tour Space is limited to 8 people per tour\, and participants must be 12 years or older. The weight limit for the stand-up paddleboards is 285 pounds. All gear such as life jackets\, paddleboards\, and paddles will be provided by the Meadows Center. Beginner and experienced stand-up paddlers are welcome. To learn more about participant requirements and to register for a stand-up paddling tour\, visit www.meadowscenter.txst.edu/Education/PaddlingTours. To schedule a private or group stand-up paddling tour\, email springlaketours@txstate.edu
LOCATION:201 San Marcos Springs Drive San Marcos\, TX 78666
UID:e.2626.5158115
SEQUENCE:3
DTSTAMP:20260421T121521Z
URL:https://business.sanmarcostexas.com/events/details/night-light-up-stand-up-paddling-tour-12-10-2022-5158115
END:VEVENT

END:VCALENDAR
