BEGIN:VCALENDAR
VERSION:2.0
PRODID:-//ChamberMaster//Event Calendar 2.0//EN
METHOD:PUBLISH
X-PUBLISHED-TTL:P3D
REFRESH-INTERVAL:P3D
CALSCALE:GREGORIAN
BEGIN:VEVENT
DTSTART:20190907T150000Z
DTEND:20190907T170000Z
X-MICROSOFT-CDO-ALLDAYEVENT:FALSE
SUMMARY:Mermaid Headdress Making Sessions
DESCRIPTION:Get ready for all things Mermaid! The Meadows Center will be hosting mermaid headdress making sessions August 10 and September 7. We will provide mermaid headdress bases and supplies to decorate so that each participant can walk away their very own! Participants should bring a hot glue gun and a good pair of scissors. Send an email to springlaketours@txstate.edu if you need one supplied for you. Participants may bring any additional items that they would like to add to their piece. Tickets are $25 per person making a headdress (limit 15). Register online at: http://bit.ly/Mermaid-Headdress.
X-ALT-DESC;FMTTYPE=text/html:Get ready for all things Mermaid! The Meadows Center will be hosting mermaid headdress making sessions August 10 and September 7. We will provide mermaid headdress bases and supplies to decorate so that each participant can walk away their very own! Participants should bring a hot glue gun and a good pair of scissors. Send an email to springlaketours@txstate.edu if you need one supplied for you. Participants may bring any additional items that they would like to add to their piece. Tickets are $25 per person making a headdress (limit 15). Register online at: http://bit.ly/Mermaid-Headdress.
LOCATION:The Meadows Center for Water and the Environment 201 San Marcos Springs Drive\, San Marcos\, Texas 78666
UID:e.2626.5155152
SEQUENCE:3
DTSTAMP:20260425T180317Z
URL:https://business.sanmarcostexas.com/events/details/mermaid-headdress-making-sessions-5155152
END:VEVENT

END:VCALENDAR
