BEGIN:VCALENDAR
VERSION:2.0
PRODID:-//ChamberMaster//Event Calendar 2.0//EN
METHOD:PUBLISH
X-PUBLISHED-TTL:P3D
REFRESH-INTERVAL:P3D
CALSCALE:GREGORIAN
BEGIN:VEVENT
DTSTART:20221214T170000Z
DTEND:20221214T180000Z
X-MICROSOFT-CDO-ALLDAYEVENT:FALSE
SUMMARY:Mentally & Physically Thriving: Free Virtual Health Talk
DESCRIPTION:The holidays can be a time of cheer and excitement\, but they can also bring stress from the many commitments and costs and feelings of loneliness and isolation. We want to help you de-stress\, reset and thrive. Join family medicine provider Jacqueline Stritz\, MD\, as she discusses nutrition\, lifestyle and wellness tips around the holiday season.\n\n\n\nTo register\, you can call or visit our website. \n\n1.844.BSW.DOCS (279.3627)\n\nBSWHealth.com/HealthSpeak\n\nWhen registering online\, please select Baylor Scott & White Medical Center - Buda as Sponsoring Location.
X-ALT-DESC;FMTTYPE=text/html:<p><span style="font-family:tahoma"><span style="font-size:10.0pt">The holidays can be a time of cheer and excitement\, but they can also bring stress from the many commitments and costs and feelings of loneliness and isolation. We want to help you de-stress\, reset and thrive. Join family medicine provider Jacqueline Stritz\, MD\, as she discusses nutrition\, lifestyle and wellness tips around the holiday season.</span><br />\n<br />\nTo register\, you can call or visit our website.&nbsp\;<br />\n1.844.BSW.DOCS (279.3627)<br />\nBSWHealth.com/HealthSpeak</span></p>\n\n<p><span style="font-family:tahoma">When registering online\, please select Baylor Scott &amp\; White Medical Center - Buda as Sponsoring Location.</span></p>\n
LOCATION:This free virtual seminar will be presented via Zoom.
UID:e.2626.5158133
SEQUENCE:3
DTSTAMP:20260421T135321Z
URL:https://business.sanmarcostexas.com/events/details/mentally-physically-thriving-free-virtual-health-talk-5158133
END:VEVENT

END:VCALENDAR
