BEGIN:VCALENDAR
VERSION:2.0
PRODID:-//ChamberMaster//Event Calendar 2.0//EN
METHOD:PUBLISH
X-PUBLISHED-TTL:P3D
REFRESH-INTERVAL:P3D
CALSCALE:GREGORIAN
BEGIN:VEVENT
DTSTART:20190304T170000Z
DTEND:20190305T050000Z
X-MICROSOFT-CDO-ALLDAYEVENT:FALSE
SUMMARY:Margarita Monday at Industry
DESCRIPTION:Enjoy half off all margaritas at Industry\, all day! Come check out one of San Marcos? best new restaurants.
X-ALT-DESC;FMTTYPE=text/html:Enjoy half off all margaritas at Industry\, all day! Come check out one of San Marcos? best new restaurants.
LOCATION:Industry 110 E Martin Luther King Dr Ste 126\, San Marcos\, TX 78666
UID:e.2626.5153771
SEQUENCE:3
DTSTAMP:20260425T144546Z
URL:https://business.sanmarcostexas.com/events/details/margarita-monday-at-industry-03-04-2019-5153771
END:VEVENT

END:VCALENDAR
