BEGIN:VCALENDAR
VERSION:2.0
PRODID:-//ChamberMaster//Event Calendar 2.0//EN
METHOD:PUBLISH
X-PUBLISHED-TTL:P3D
REFRESH-INTERVAL:P3D
CALSCALE:GREGORIAN
BEGIN:VEVENT
DTSTART:20241031T003000Z
DTEND:20241031T020000Z
X-MICROSOFT-CDO-ALLDAYEVENT:FALSE
SUMMARY:Lore Legends & Landmarks Walking Tour
DESCRIPTION:Welcome to Lore\, Legends & Landmarks! \n\nSpecial Tour Marking 100 years since one of the most notable criminal acts was committed. Don't miss it!\n\n\n\nJoin us at 314 East Hutchison Street\, San Marcos\, TX for an evening filled with fascinating stories and iconic landmarks. Discover the rich history and mythical tales that make San Marcos so special. From ancient lore to modern legends\, this event will showcase the best of what this area has to offer. Don't miss out on this exciting in-person experience!\n\nWine and beer can be purchased before leaving the bar in a sealed container. Customers can enjoy the tour for a unique sip and stroll experience.
X-ALT-DESC;FMTTYPE=text/html:<h1>Welcome to <strong>Lore\, Legends &amp\; Landmarks</strong>!&nbsp\;</h1>\n\n<h2><strong>Special Tour</strong> Marking 100 years since one of the most notable criminal acts was committed. Don&#39\;t miss it!</h2>\n\n<p><br />\nJoin us at 314 East Hutchison Street\, San Marcos\, TX for an evening filled with fascinating stories and iconic landmarks. Discover the rich history and mythical tales that make San Marcos so special. From ancient lore to modern legends\, this event will showcase the best of what this area has to offer. Don&#39\;t miss out on this exciting in-person experience!</p>\n\n<p>Wine and beer can be purchased before leaving the bar in a sealed container. Customers can enjoy the tour for a unique sip and stroll experience.</p>\n
LOCATION:Wineaux 314 E Hutchison St San Marcos\, TX
UID:e.2626.5159786
SEQUENCE:3
DTSTAMP:20260425T032443Z
URL:https://business.sanmarcostexas.com/events/details/lore-legends-landmarks-walking-tour-5159786
END:VEVENT

END:VCALENDAR
