BEGIN:VCALENDAR
VERSION:2.0
PRODID:-//ChamberMaster//Event Calendar 2.0//EN
METHOD:PUBLISH
X-PUBLISHED-TTL:P3D
REFRESH-INTERVAL:P3D
CALSCALE:GREGORIAN
BEGIN:VEVENT
DTSTART:20250427T003000Z
DTEND:20250427T030000Z
X-MICROSOFT-CDO-ALLDAYEVENT:FALSE
SUMMARY:Lend Me A Soprano
DESCRIPTION:Lend Me A Soprano\n\nby Ken Ludwig\n \n\nDirected by:  Whitney Marlett\n\nIt's 1934\, and the clever and combustible Lucille Wiley\, Manager of the Cleveland Grand Opera Company\, is ready to welcome world-class soprano Elena Firenzi for her one-night-only starring role in Carmen. Alas\, Elena arrives late\, her impassioned husband Pasquale has a fit of jealousy\, and it remains to be seen whether Mrs. Wiley's mousy but determined assistant Jo can save the day. Based on Ken Ludwig's Tony Award-winning Lend Me A Tenor\, this this madcap screwball comedy features ladies in the leading roles and is guaranteed to leave audiences teary-eyed with laughter.\n\nKen Ludwig's Lend Me a Soprano is presented by arrangement with Concord Theatricals on behalf of Samuel French\, Inc. (www.concordtheatricals.com)\n \n\nShow Dates/Times (April 25 - May 18):\n\nFridays & Saturdays - 7:30PM\n\nSundays - 2:30PM\n\n \n\nLocation:\n\nThe Wimberley Players\n\n450 Old Kyle Road\n\nWimberley\, TX. 78676\n\n(512) 847-0575\n\nwww.WimberleyPlayers.org\n \n\nTickets by phone\, and online\n\n - Adults $30\n\n- Students with ID $20\n\n- Groups of 8 or more receive $2 discount per ticket\n\n\n\nConcessions available: Sodas\, Beer\, Wine\, Coffee\, Cookies\, Candies & Snacks\n\nDisability parking/seating/restrooms\; and hearing assist devices available\n \n\nCAST:\n\nMrs. Wylie - Sherri Small\n\nJo - Jade Kelly\n\nJerry - Noah Tarnow\n\nElena Firenzi - Elisabeth Steigelman\n\nPasquale - Clint Herzig\n\nBeverly the Bellhop - Melinda Ellisor\n\nLeo - Parker Dial\n\nJulia - Karin Cunningham
X-ALT-DESC;FMTTYPE=text/html:<p><strong>Lend Me A Soprano</strong><br />\n<strong>by Ken Ludwig</strong></p>\n&nbsp\;\n\n<p><strong>Directed by:</strong><span style="font-family:arial\,sans-serif\; font-size:11pt">&nbsp\; Whitney Marlett</span></p>\n\n<p><span style="background-color:transparent\; color:rgb(34\, 34\, 34)\; font-family:arial\,sans-serif\; font-size:11pt">It&#39\;s 1934\, and the clever and combustible Lucille Wiley\, Manager of the Cleveland Grand Opera Company\, is ready to welcome world-class soprano Elena Firenzi for her one-night-only starring role in Carmen. Alas\, Elena arrives late\, her impassioned husband Pasquale has a fit of jealousy\, and it remains to be seen whether Mrs. Wiley&rsquo\;s mousy but determined assistant Jo can save the day. Based on Ken Ludwig&rsquo\;s Tony Award-winning Lend Me A Tenor\, this this madcap screwball comedy features ladies in the leading roles and is guaranteed to leave audiences teary-eyed with laughter.</span></p>\n\n<p><em>Ken Ludwig&#39\;s Lend Me a Soprano is presented by arrangement with Concord Theatricals on behalf of Samuel French\, Inc. (</em><a href="http://www.concordtheatricals.com/" style="text-decoration-line: none\;"><em>www.concordtheatricals.com</em></a><em>)</em></p>\n&nbsp\;\n\n<p><strong>Show Dates/Times (April 25 - May 18):</strong><br />\n<span style="font-family:arial\,sans-serif\; font-size:11pt">Fridays &amp\; Saturdays - 7:30PM</span><br />\n<span style="font-family:arial\,sans-serif\; font-size:11pt">Sundays - 2:30PM</span></p>\n\n<p>&nbsp\;</p>\n\n<p><strong>Location:</strong><br />\n<span style="font-family:arial\,sans-serif\; font-size:11pt">The Wimberley Players</span><br />\n<span style="font-family:arial\,sans-serif\; font-size:11pt">450 Old Kyle Road</span><br />\n<span style="font-family:arial\,sans-serif\; font-size:11pt">Wimberley\, TX. 78676</span><br />\n<span style="font-family:arial\,sans-serif\; font-size:11pt">(512) 847-0575</span><br />\n<span style="font-family:arial\,sans-serif\; font-size:11pt">www.WimberleyPlayers.org</span></p>\n&nbsp\;\n\n<p><strong>Tickets by phone\, and online</strong></p>\n\n<p><span style="background-color:transparent\; font-family:arial\,sans-serif\; font-size:11pt">&nbsp\;- Adults $30</span><br />\n<span style="background-color:transparent\; color:rgb(96\, 94\, 94)\; font-family:arial\,sans-serif\; font-size:11pt">- </span><span style="background-color:transparent\; font-family:arial\,sans-serif\; font-size:11pt">Students with ID $20</span><br />\n<span style="background-color:transparent\; font-family:arial\,sans-serif\; font-size:11pt">- Groups of 8 or more receive $2 discount per ticket</span></p>\n\n<p><br />\n<strong>Concessions available:</strong><span style="background-color:rgb(255\, 255\, 255)\; font-family:arial\,sans-serif\; font-size:11pt"> Sodas\, Beer\, Wine\, Coffee\, Cookies\, Candies &amp\; Snacks</span></p>\n\n<p><em><span style="font-family:arial\,sans-serif\; font-size:11pt">Disability parking/seating/restrooms\; and </span><span style="background-color:rgb(255\, 255\, 255)\; font-family:arial\,sans-serif\; font-size:11pt">hearing assist devices available</span></em></p>\n&nbsp\;\n\n<p><u><strong>CAST:</strong></u></p>\n\n<p><span style="font-family:arial\,sans-serif\; font-size:11pt">Mrs. Wylie - Sherri Small</span></p>\n\n<p><span style="font-family:arial\,sans-serif\; font-size:11pt">Jo - Jade Kelly</span></p>\n\n<p><span style="font-family:arial\,sans-serif\; font-size:11pt">Jerry - Noah Tarnow</span></p>\n\n<p><span style="font-family:arial\,sans-serif\; font-size:11pt">Elena Firenzi - Elisabeth Steigelman</span></p>\n\n<p><span style="font-family:arial\,sans-serif\; font-size:11pt">Pasquale - Clint Herzig</span></p>\n\n<p><span style="font-family:arial\,sans-serif\; font-size:11pt">Beverly the Bellhop - Melinda Ellisor</span></p>\n\n<p><span style="font-family:arial\,sans-serif\; font-size:11pt">Leo - Parker Dial</span></p>\n\n<p><span style="font-family:arial\,sans-serif\; font-size:11pt">Julia - Karin Cunningham</span></p>\n
LOCATION:The Wimberley Players 450 Old Kyle Road Wimberley\, TX. 78676 (512) 847-0575 www.WimberleyPlayers.org
UID:e.2626.5160292
SEQUENCE:3
DTSTAMP:20260425T150308Z
URL:https://business.sanmarcostexas.com/events/details/lend-me-a-soprano-04-26-2025-5160292
END:VEVENT

END:VCALENDAR
