BEGIN:VCALENDAR
VERSION:2.0
PRODID:-//ChamberMaster//Event Calendar 2.0//EN
METHOD:PUBLISH
X-PUBLISHED-TTL:P3D
REFRESH-INTERVAL:P3D
CALSCALE:GREGORIAN
BEGIN:VEVENT
DTSTART:20240919T000000Z
DTEND:20240919T020000Z
X-MICROSOFT-CDO-ALLDAYEVENT:FALSE
SUMMARY:Jack Wright's Neil Diamond Superstar
DESCRIPTION:Jack Wright's Neil Diamond Superstar\n\nA National Touring Tribute\n\n\n\nTuesday\, September 17\n\nWednesday\, September 18\n\n\n\nShows start at 7 PM\n\n\n\nJack Wright's highly acclaimed national touring production\, NEIL DIAMOND SUPERSTAR\, brings together the passionate ballads\, soaring anthems and high-energy rock 'n roll that encompass Neil's five decades of superstar performances.\n\n\n\nJack is the complete opposite of the Vegas-style impersonator. No over-the-top mimicry or posturing. Just a respectful\, honest presentation of Neil Diamond's life and music. The show is filled with charming audience interaction\, engaging storytelling\, interesting song explanations\, and nostalgic fan-favorite hits -- all supported by captivating multimedia imagery.\n\n\n\n"This is a close as it gets."\n\nJennifer Strong\, Soper-Reese Theater Lakeport\, CA\n\n\n\n"Absolutely awesome! Pure Joy!"\n\nJudy LeBeau\, Theater Artist Studio\, Scottsdale\, AZ\n\n\n\n"An amazing experience!"\n\nIke Wheeler\, Arkansas State University
X-ALT-DESC;FMTTYPE=text/html:<span style="font-size:18px"><span style="background-color:rgb(255\, 255\, 255)\; color:rgb(34\, 34\, 34)\; font-family:arial\,helvetica\,sans-serif">Jack Wright&#39\;s Neil Diamond Superstar</span><br />\n<span style="background-color:rgb(255\, 255\, 255)\; color:rgb(34\, 34\, 34)\; font-family:arial\,helvetica\,sans-serif">A National Touring Tribute</span></span><br />\n<br />\n<span style="background-color:rgb(255\, 255\, 255)\; color:rgb(34\, 34\, 34)\; font-family:arial\,helvetica\,sans-serif\; font-size:small">Tuesday\, September 17</span><br />\n<span style="background-color:rgb(255\, 255\, 255)\; color:rgb(34\, 34\, 34)\; font-family:arial\,helvetica\,sans-serif\; font-size:small">Wednesday\, September 18</span><br />\n<br />\n<span style="background-color:rgb(255\, 255\, 255)\; color:rgb(34\, 34\, 34)\; font-family:arial\,helvetica\,sans-serif\; font-size:small">Shows start at 7 PM</span><br />\n<br />\n<span style="background-color:rgb(255\, 255\, 255)\; color:rgb(34\, 34\, 34)\; font-family:arial\,helvetica\,sans-serif\; font-size:small">Jack Wright&#39\;s highly acclaimed national touring production\, NEIL DIAMOND SUPERSTAR\, brings together the passionate ballads\, soaring anthems and high-energy rock &lsquo\;n roll that encompass Neil&#39\;s five decades of superstar performances.</span><br />\n<br />\n<span style="background-color:rgb(255\, 255\, 255)\; color:rgb(34\, 34\, 34)\; font-family:arial\,helvetica\,sans-serif\; font-size:small">Jack is the complete opposite of the Vegas-style impersonator. No over-the-top mimicry or posturing. Just a respectful\, honest presentation of Neil Diamond&#39\;s life and music. The show is filled with charming audience interaction\, engaging storytelling\, interesting song explanations\, and nostalgic fan-favorite hits -- all supported by captivating multimedia imagery.</span><br />\n<br />\n<em><span style="background-color:rgb(255\, 255\, 255)\; color:rgb(34\, 34\, 34)\; font-family:arial\,helvetica\,sans-serif\; font-size:small">&ldquo\;This is a close as it gets.&rdquo\;</span></em><br />\n<span style="background-color:rgb(255\, 255\, 255)\; color:rgb(34\, 34\, 34)\; font-family:arial\,helvetica\,sans-serif\; font-size:small">Jennifer Strong\, Soper-Reese Theater Lakeport\, CA</span><br />\n<br />\n<em><span style="background-color:rgb(255\, 255\, 255)\; color:rgb(34\, 34\, 34)\; font-family:arial\,helvetica\,sans-serif\; font-size:small">&ldquo\;Absolutely awesome! Pure Joy!&rdquo\;</span></em><br />\n<span style="background-color:rgb(255\, 255\, 255)\; color:rgb(34\, 34\, 34)\; font-family:arial\,helvetica\,sans-serif\; font-size:small">Judy LeBeau\, Theater Artist Studio\, Scottsdale\, AZ</span><br />\n<br />\n<em><span style="background-color:rgb(255\, 255\, 255)\; color:rgb(34\, 34\, 34)\; font-family:arial\,helvetica\,sans-serif\; font-size:small">&ldquo\;An amazing experience!&rdquo\;</span></em><br />\n<span style="background-color:rgb(255\, 255\, 255)\; color:rgb(34\, 34\, 34)\; font-family:arial\,helvetica\,sans-serif\; font-size:small">Ike Wheeler\, Arkansas State University</span><br />\n&nbsp\;
LOCATION:The Wimberley Players 450 Old Kyle Road Wimberley\, TX. 78676 (512) 847-0575 www.WimberleyPlayers.org
UID:e.2626.5159736
SEQUENCE:3
DTSTAMP:20260425T032625Z
URL:https://business.sanmarcostexas.com/events/details/jack-wright-s-neil-diamond-superstar-09-18-2024-5159736
END:VEVENT

END:VCALENDAR
