BEGIN:VCALENDAR
VERSION:2.0
PRODID:-//ChamberMaster//Event Calendar 2.0//EN
METHOD:PUBLISH
X-PUBLISHED-TTL:P3D
REFRESH-INTERVAL:P3D
CALSCALE:GREGORIAN
BEGIN:VEVENT
DTSTART:20250129T150000Z
DTEND:20250129T173000Z
X-MICROSOFT-CDO-ALLDAYEVENT:FALSE
SUMMARY:Inter-Region Tour: San Marcos K12 Education
DESCRIPTION:Inter-Region Tour: The Spirit and Excellence of San Marcos K-12 Education\n\n \n\nConnect and learn! Visit the campus of San Marcos High School with this guided tour. See how technology is shaping the future of education and setting up local students for high-demand career paths. \n\n\n\nAll are welcome to register for this tour at San Marcos High School -- with no registration fee.  This is for Chamber members\, local elected officials\, business owners\, and any interested citizen or non-member business representative. The itinerary includes a tour of San Marcos High School including the S.T.E.A.M. Center. \n\n\n\nITINERARY:\n\n9:00 am  Meet at front entrance of San Marcos High School (enter at guard gate on Rattler Rd.)\n\n9:15-11:30  Tour\n\n11:45 pm  Adjourn\n\n\n\n(The group is invited to connect afterward over an optional lunch on your own at Black's BBQ.)\n\n \n\nClick REGISTER on this page to secure your spot on this guided tour.
X-ALT-DESC;FMTTYPE=text/html:<div class="x_elementToProof" data-olk-copy-source="MessageBody" style="border: 0px\; font-variant-numeric: inherit\; font-variant-east-asian: inherit\; font-variant-alternates: inherit\; font-variant-position: inherit\; font-variant-emoji: inherit\; font-stretch: inherit\; font-size: 11pt\; line-height: inherit\; font-family: Aptos\, Aptos_EmbeddedFont\, Aptos_MSFontService\, Calibri\, Helvetica\, sans-serif\; font-optical-sizing: inherit\; font-size-adjust: inherit\; font-kerning: inherit\; font-feature-settings: inherit\; font-variation-settings: inherit\; margin: 0px\; padding: 0px\; vertical-align: baseline\; color: rgb(0\, 0\, 0)\;"><span style="font-size:18px\;"><strong>Inter-Region Tour: The Spirit and Excellence of San Marcos K-12 Education</strong></span></div>\n\n<div class="x_elementToProof" style="border: 0px\; font-variant-numeric: inherit\; font-variant-east-asian: inherit\; font-variant-alternates: inherit\; font-variant-position: inherit\; font-variant-emoji: inherit\; font-stretch: inherit\; font-size: 11pt\; line-height: inherit\; font-family: Aptos\, Aptos_EmbeddedFont\, Aptos_MSFontService\, Calibri\, Helvetica\, sans-serif\; font-optical-sizing: inherit\; font-size-adjust: inherit\; font-kerning: inherit\; font-feature-settings: inherit\; font-variation-settings: inherit\; margin: 0px\; padding: 0px\; vertical-align: baseline\; color: rgb(0\, 0\, 0)\;">&nbsp\;</div>\n\n<div class="x_elementToProof" style="border: 0px\; font-variant-numeric: inherit\; font-variant-east-asian: inherit\; font-variant-alternates: inherit\; font-variant-position: inherit\; font-variant-emoji: inherit\; font-stretch: inherit\; font-size: 11pt\; line-height: inherit\; font-family: Aptos\, Aptos_EmbeddedFont\, Aptos_MSFontService\, Calibri\, Helvetica\, sans-serif\; font-optical-sizing: inherit\; font-size-adjust: inherit\; font-kerning: inherit\; font-feature-settings: inherit\; font-variation-settings: inherit\; margin: 0px\; padding: 0px\; vertical-align: baseline\; color: rgb(0\, 0\, 0)\;">Connect and learn! Visit the campus of San Marcos High School with this guided tour.&nbsp\;See how technology is shaping the future of education and setting up local students for high-demand career paths.&nbsp\;<br />\n<br />\n<em style="color: rgb(0\, 100\, 0)\; font-family: Aptos\, Aptos_EmbeddedFont\, Aptos_MSFontService\, Calibri\, Helvetica\, sans-serif\; font-size: 14.6667px\;">All are&nbsp\;welcome to register for this tour&nbsp\;at San Marcos High School -- with no registration fee.&nbsp\;&nbsp\;</em>This is for Chamber members\, local elected officials\, business owners\, and any interested citizen or&nbsp\;non-member business representative. The itinerary includes a tour of San Marcos High School including the S.T.E.A.M. Center.&nbsp\;<br />\n<br />\nITINERARY:<br />\n9:00 am&nbsp\; Meet at front entrance of San Marcos High School (enter at guard gate on Rattler Rd.)<br />\n9:15-11:30 &nbsp\;Tour<br />\n11:45&nbsp\;pm&nbsp\; Adjourn<br />\n<br />\n<span style="color: rgb(0\, 0\, 0)\; font-family: Aptos\, Aptos_EmbeddedFont\, Aptos_MSFontService\, Calibri\, Helvetica\, sans-serif\; font-size: 14.6667px\;">(The group is invited to&nbsp\;connect afterward over an optional l</span><span style="color: rgb(0\, 0\, 0)\; font-family: Aptos\, Aptos_EmbeddedFont\, Aptos_MSFontService\, Calibri\, Helvetica\, sans-serif\; font-size: 14.6667px\;">unch&nbsp\;</span><span style="color: rgb(0\, 0\, 0)\; font-family: Aptos\, Aptos_EmbeddedFont\, Aptos_MSFontService\, Calibri\, Helvetica\, sans-serif\; font-size: 14.6667px\;">on your own at Black&#39\;s BBQ.</span><span style="color: rgb(0\, 0\, 0)\; font-family: Aptos\, Aptos_EmbeddedFont\, Aptos_MSFontService\, Calibri\, Helvetica\, sans-serif\; font-size: 14.6667px\;">)</span><br />\n&nbsp\;</div>\n\n<div class="x_elementToProof" style="border: 0px\; font-variant-numeric: inherit\; font-variant-east-asian: inherit\; font-variant-alternates: inherit\; font-variant-position: inherit\; font-variant-emoji: inherit\; font-stretch: inherit\; font-size: 11pt\; line-height: inherit\; font-family: Aptos\, Aptos_EmbeddedFont\, Aptos_MSFontService\, Calibri\, Helvetica\, sans-serif\; font-optical-sizing: inherit\; font-size-adjust: inherit\; font-kerning: inherit\; font-feature-settings: inherit\; font-variation-settings: inherit\; margin: 0px\; padding: 0px\; vertical-align: baseline\; color: rgb(0\, 0\, 0)\;">Click REGISTER on this page to secure your spot on this guided tour.<br />\n<br />\n<br />\n<br />\n&nbsp\;</div>\n
LOCATION:
UID:e.2626.5160070
SEQUENCE:3
DTSTAMP:20260425T102916Z
URL:https://business.sanmarcostexas.com/events/details/inter-region-tour-san-marcos-k12-education-5160070
END:VEVENT

END:VCALENDAR
