BEGIN:VCALENDAR
VERSION:2.0
PRODID:-//ChamberMaster//Event Calendar 2.0//EN
METHOD:PUBLISH
X-PUBLISHED-TTL:P3D
REFRESH-INTERVAL:P3D
CALSCALE:GREGORIAN
BEGIN:VEVENT
DTSTART:20260331T210000Z
DTEND:20260331T230000Z
X-MICROSOFT-CDO-ALLDAYEVENT:FALSE
SUMMARY:Hilton Garden Inn San Marcos Grand Re-Opening/Client Showcase Event
DESCRIPTION:Join us as we celebrate the Grand Re-Opening of the Hilton Garden Inn San Marcos!\n\nWe are excited to welcome our community partners\, clients\, and Chamber members to an exclusive Client Showcase featuring our newly renovated guest rooms and refreshed lobby spaces. Come explore the updates\, connect with fellow professionals\, and see firsthand how our enhanced spaces are perfect for meetings\, group stays\, and special events.\n\nGuests will enjoy complimentary hors d'oeuvres\, two drink tickets\, networking opportunities\, and the chance to win exciting raffle prizes.\n\nDate: March 31\, 2026\n\nTime: 4:00 PM   6:00 PM\n\nLocation: 2131 N Hwy 35\, San Marcos\, TX 78666\n\nThis event is free to attend\, but we kindly ask that you RSVP by March 23\, 2026\, so we can plan accordingly for food and beverages.\n\nWe look forward to celebrating with you and showcasing all that's new at Hilton Garden Inn San Marcos!
X-ALT-DESC;FMTTYPE=text/html:<p>Join us as we celebrate the <strong>Grand Re-Opening of the Hilton Garden Inn San Marcos!</strong></p>\n\n<p>We are excited to welcome our community partners\, clients\, and Chamber members to an exclusive Client Showcase featuring our newly renovated guest rooms and refreshed lobby spaces. Come explore the updates\, connect with fellow professionals\, and see firsthand how our enhanced spaces are perfect for meetings\, group stays\, and special events.</p>\n\n<p>Guests will enjoy complimentary hors d&rsquo\;oeuvres\, two drink tickets\, networking opportunities\, and the chance to win exciting raffle prizes.</p>\n\n<p><strong>Date:</strong> March 31\, 2026<br />\n<strong>Time:</strong> 4:00 PM &ndash\; 6:00 PM<br />\n<strong>Location:</strong> 2131 N Hwy 35\, San Marcos\, TX 78666</p>\n\n<p>This event is <strong>free to attend</strong>\, but we kindly ask that you RSVP by March 23\, 2026\, so we can plan accordingly for food and beverages.</p>\n\n<p>We look forward to celebrating with you and showcasing all that&rsquo\;s new at Hilton Garden Inn San Marcos!</p>\n
LOCATION:2131 N Hwy 35\, San Marcos\, TX 78666
UID:e.2626.5161466
SEQUENCE:3
DTSTAMP:20260421T005044Z
URL:https://business.sanmarcostexas.com/events/details/hilton-garden-inn-san-marcos-grand-re-opening-client-showcase-event-5161466
END:VEVENT

END:VCALENDAR
