BEGIN:VCALENDAR
VERSION:2.0
PRODID:-//ChamberMaster//Event Calendar 2.0//EN
METHOD:PUBLISH
X-PUBLISHED-TTL:P3D
REFRESH-INTERVAL:P3D
CALSCALE:GREGORIAN
BEGIN:VEVENT
DTSTART:20250410T220000Z
DTEND:20250410T220000Z
X-MICROSOFT-CDO-ALLDAYEVENT:FALSE
SUMMARY:Hays County Real Estate Mixer
DESCRIPTION:Come network with us and meet other people in the real estate industry. Thanks to our sponsors you will receive two complimentary drinks along with 1 pound of crawfish at this event. Also bring your business card to be entered in a raffle.
X-ALT-DESC;FMTTYPE=text/html:Come network with us and meet other people in the real estate industry. Thanks to our sponsors you will receive two complimentary drinks along with 1 pound of crawfish at this event. Also bring your business card to be entered in a raffle.
LOCATION:BullDaddies 119 E Hutchison St San Marcos TX 78666
UID:e.2626.5160310
SEQUENCE:3
DTSTAMP:20260425T145527Z
URL:https://business.sanmarcostexas.com/events/details/hays-county-real-estate-mixer-5160310
END:VEVENT

END:VCALENDAR
