BEGIN:VCALENDAR
VERSION:2.0
PRODID:-//ChamberMaster//Event Calendar 2.0//EN
METHOD:PUBLISH
X-PUBLISHED-TTL:P3D
REFRESH-INTERVAL:P3D
CALSCALE:GREGORIAN
BEGIN:VEVENT
DTSTART:20260514T220000Z
DTEND:20260515T000000Z
X-MICROSOFT-CDO-ALLDAYEVENT:FALSE
SUMMARY:Hays County Real Estate Mixer
DESCRIPTION:Come network with us and meet other people in the real estate industry. Thanks to our sponsors you will receive two complimentary drinks. Also bring your business card to be entered in a raffle.
X-ALT-DESC;FMTTYPE=text/html:Come network with us and meet other people in the real estate industry. Thanks to our sponsors you will receive two complimentary drinks. Also bring your business card to be entered in a raffle.
LOCATION:The Railhouse 107 E Center St Kyle TX 78666
UID:e.2626.5162189
SEQUENCE:3
DTSTAMP:20260425T223852Z
URL:https://business.sanmarcostexas.com/events/details/hays-county-real-estate-mixer-05-14-2026-5162189
END:VEVENT

END:VCALENDAR
