BEGIN:VCALENDAR
VERSION:2.0
PRODID:-//ChamberMaster//Event Calendar 2.0//EN
METHOD:PUBLISH
X-PUBLISHED-TTL:P3D
REFRESH-INTERVAL:P3D
CALSCALE:GREGORIAN
BEGIN:VEVENT
DTSTART:20260312T220000Z
DTEND:20260313T000000Z
X-MICROSOFT-CDO-ALLDAYEVENT:FALSE
SUMMARY:Hays County Real Estate Mixer
DESCRIPTION:Come network with us and meet other people in the real estate industry. Thanks to our sponsors you will receive two complimentary drinks. AND 1 lb of crawfish with sides. Also bring your business card to be entered in a raffle.
X-ALT-DESC;FMTTYPE=text/html:Come network with us and meet other people in the real estate industry. Thanks to our sponsors you will receive two complimentary drinks. AND 1 lb of crawfish with sides. Also bring your business card to be entered in a raffle.
LOCATION:Crafthouse 242 N LBJ Dr #103 San Marcos TX 78666
UID:e.2626.5161590
SEQUENCE:3
DTSTAMP:20260421T004844Z
URL:https://business.sanmarcostexas.com/events/details/hays-county-real-estate-mixer-03-12-2026-5161590
END:VEVENT

END:VCALENDAR
